Workbook

Sheet Stredné hodnoty
B1: D | C1: E | D1: L | E1: K
A2: Rentabilita vlastného imania | B2: 9.28 | C2: 1.31 | D2: 0.79 | E2: 5.94
A3: Rentabilita aktív - hrubá | B3: 3.14 | C3: 0.61 | D3: 0.33 | E3: 2.85
A4: Podiel novovytvorenej hodnoty v tržbách | B4: 5.31 | C4: 1.73 | D4: 3.7 | E4: 3.71
A5: Prevádzková rentabilita tržieb | B5: 7.53 | C5: 1.86 | D5: 3.28 | E5: 2.88
A7: Vysvetlivky
A8: D - Dodávka elektriny, plynu, pary a studeného vzduchu
A9: E - Dodávka vody, čistenie a odvod odpadových vôd, odpady a služby odstraňovania odpadov
A10: L - Činnosti v oblasti nehnuteľností
A11: K - Finančné a poisťovacie služby

Sheet Odvetvie
A1: Odvetvie | B1: 2018 | D1: 2019 | F1: 2020
A2: Celková likvidita | B2: 1.31 | D2: 1.36 | F2: 1.18
A3: Doba obratu zásob | B3: 45.12 | D3: 41.58 | F3: 53.39
A4: Obrat aktív | B4: 1.59 | D4: 2.16 | F4: 1.59
A5: Kr. pohľadávky z OS | B5: 32.15 | D5: 30.88 | F5: 33.48
A6: Kr. záväzky z OS | B6: 31.71 | D6: 23.71 | F6: 24.76
A7: Celková zadlženosť | B7: 67.2 | D7: 60.13 | F7: 70.1
A8: Úverová zadlženosť | B8: 0 | D8: 0 | F8: 0
A9: Tokové zadlženie | B9: 3.37 | D9: 2.62 | F9: 12.86
A10: Rentabilita aktív | B10: 5.34 | D10: 8.91 | F10: 13.88
A11: Rentabilita VK | B11: 14.87 | D11: 15.96 | F11: 23.86
A12: Rentabilita tržieb | B12: 12.08 | D12: 14.12 | F12: 14.31
A13: Prevádzková ROS | B13: 0.86 | D13: 0.54 | F13: 1.33

Sheet Komparácia odvetvia a podniku
A1: 2020 | B1: Odvetvie | D1: GREEN, spol. s r. o. | I1: 2019 | J1: Odvetvie | L1: GREEN, spol. s r. o.
A2: Celková likvidita | B2: 1.18 | D2: =Ukazovatele!E4 -> 2.81 | I2: Celková likvidita | J2: 1.36 | L2: =Ukazovatele!D4 -> 2.98
A3: Doba obratu zásob | B3: 53.39 | D3: =Ukazovatele!E6 -> 19.662031 | I3: Doba obratu zásob | J3: 41.58 | L3: =Ukazovatele!D6 -> 29.04
A4: Obrat aktív | B4: 1.59 | D4: =Ukazovatele!E7 -> 2.66 | I4: Obrat aktív | J4: 2.16 | L4: =Ukazovatele!D7 -> 2.87
A5: Kr. pohľadávky z OS | B5: 33.48 | D5: =Ukazovatele!E8 -> 27.13 | I5: Kr. pohľadávky z OS | J5: 30.88 | L5: =Ukazovatele!D8 -> 29.11
A6: Kr. záväzky z OS | B6: 24.76 | D6: =Ukazovatele!E9 -> 25.64 | I6: Kr. záväzky z OS | J6: 23.71 | L6: =Ukazovatele!D9 -> 24.47
A7: Celková zadlženosť | B7: 70.1 | D7: =Ukazovatele!E11 -> 38.88 | I7: Celková zadlženosť | J7: 60.13 | L7: =Ukazovatele!D11 -> 36.25
A8: Úverová zadlženosť | B8: 0 | D8: =Ukazovatele!E12 -> 0 | I8: Úverová zadlženosť | J8: 0 | L8: =Ukazovatele!D12 -> 0
A9: Tokové zadlženie | B9: 1.94 | D9: =Ukazovatele!E13 -> 1.09 | I9: Tokové zadlženie | J9: 2.62 | L9: =Ukazovatele!D13 -> 1.1
A10: Rentabilita aktív | B10: 13.88 | D10: =Ukazovatele!E15 -> 33.62 | I10: Rentabilita aktív | J10: 8.91 | L10: =Ukazovatele!D15 -> 30.21
A11: Rentabilita VK | B11: 23.86 | D11: =Ukazovatele!E16 -> 55 | I11: Rentabilita VK | J11: 15.96 | L11: =Ukazovatele!D16 -> 47.39
A12: Rentabilita tržieb | B12: 14.31 | D12: =Ukazovatele!E17 -> 12.64 | I12: Rentabilita tržieb | J12: 14.12 | L12: =Ukazovatele!D17 -> 10.51
A13: Prevádzková ROS | B13: 1.33 | D13: =Ukazovatele!E18 -> 0.27 | I13: Prevádzková ROS | J13: 0.54 | L13: =Ukazovatele!D18 -> 0.05
A16: 2018 | B16: Odvetvie | D16: GREEN, spol. s r. o.
A17: Celková likvidita | B17: 1.31 | D17: =Ukazovatele!C4 -> 2.83
A18: Doba obratu zásob | B18: 45.12 | D18: =Ukazovatele!C6 -> 32.91
A19: Obrat aktív | B19: 1.59 | D19: =Ukazovatele!C7 -> 2.55
A20: Kr. pohľadávky z OS | B20: 32.15 | D20: =Ukazovatele!C8 -> 64.33
A21: Kr. záväzky z OS | B21: 31.71 | D21: =Ukazovatele!C9 -> 30.43
A22: Celková zadlženosť | B22: 19 | D22: =Ukazovatele!C11 -> 38.75
A23: Úverová zadlženosť | B23: 0 | D23: =Ukazovatele!C12 -> 0
A24: Tokové zadlženie | B24: 3.37 | D24: =Ukazovatele!C13 -> 1.21
A25: Rentabilita aktív | B25: 5.34 | D25: =Ukazovatele!C15 -> 29.49
A26: Rentabilita VK | B26: 14.87 | D26: =Ukazovatele!C16 -> 48.15
A27: Rentabilita tržieb | B27: 12.08 | D27: =Ukazovatele!C17 -> 11.55
A28: Prevádzková ROS | B28: 0.86 | D28: =Ukazovatele!C18 -> 0.05

Sheet Pavučinové grafy
A2: 2020 | B2: Odvetvie | D2: GREEN, spol. s r. o. | H2: Odvetvie | I2: GREEN, spol. s r. o. | J2: Rast/pokles
A3: Celková likvidita | B3: 1.18 | D3: =[1]Ukazovatele!E4 -> 2.81 | H3: 1 | I3: =B3/D3 -> 0.41992883 | J3: POKLES
A4: Doba obratu zásob | B4: 53.39 | D4: =[1]Ukazovatele!E6 -> 19.66 | H4: 1 | I4: =B4/D4 -> 2.7156663 | J4: POKLES | K4: Medián/podnikový výsledok
A5: Obrat aktív | B5: 1.59 | D5: =[1]Ukazovatele!E7 -> 2.66 | H5: 1 | I5: =D5/B5 -> 1.672956 | J5: RAST
A6: Kr. pohľadávky z OS | B6: 33.48 | D6: =[1]Ukazovatele!E8 -> 27.13 | H6: 1 | I6: =B6/D6 -> 1.2340582 | J6: POKLES
A7: Kr. záväzky z OS | B7: 24.76 | D7: =[1]Ukazovatele!E9 -> 25.64 | H7: 1 | I7: =D7/B7 -> 1.0355412 | J7: RAST
A8: Celková zadlženosť | B8: 70.1 | D8: =[1]Ukazovatele!E11 -> 38.88 | H8: 1 | I8: =D8/B8 -> 0.55463623 | J8: RAST
A9: Tokové zadlženie | B9: 1.94 | D9: =[1]Ukazovatele!E13 -> 1.09 | H9: 1 | I9: =B9/D9 -> 1.7798165 | J9: POKLES
A10: Rentabilita aktív | B10: 13.88 | D10: =[1]Ukazovatele!E15 -> 33.62 | H10: 1 | I10: =D10/B10 -> 2.4221902 | J10: RAST | K10: Podnikový výsledok/medián
A11: Rentabilita VK | B11: 23.86 | D11: =[1]Ukazovatele!E16 -> 55 | H11: 1 | I11: =D11/B11 -> 2.3051132 | J11: RAST
A12: Rentabilita tržieb | B12: 14.31 | D12: =[1]Ukazovatele!E17 -> 12.64 | H12: 1 | I12: =D12/B12 -> 0.88329839 | J12: RAST
A13: Prevádzková ROS | B13: 1.33 | D13: =[1]Ukazovatele!E18 -> 0.27 | H13: 1 | I13: =D13/B13 -> 0.20300752 | J13: RAST
A16: 2019 | B16: Odvetvie | D16: GREEN, spol. s r. o. | H16: Odvetvie | I16: GREEN, spol. s r. o. | J16: Rast/pokles
A17: Celková likvidita | B17: 1.36 | D17: ='[1]Komparácia odvetvia a podniku'!J2 -> 2.98 | H17: 1 | I17: =B17/D17 -> 0.45637584 | J17: POKLES
A18: Doba obratu zásob | B18: 41.58 | D18: ='[1]Komparácia odvetvia a podniku'!J3 -> 29.04 | H18: 1 | I18: =B18/D18 -> 1.4318182 | J18: POKLES
A19: Obrat aktív | B19: 2.16 | D19: ='[1]Komparácia odvetvia a podniku'!J4 -> 2.87 | H19: 1 | I19: =D19/B19 -> 1.3287037 | J19: RAST
A20: Kr. pohľadávky z OS | B20: 30.88 | D20: ='[1]Komparácia odvetvia a podniku'!J5 -> 29.11 | H20: 1 | I20: =B20/D20 -> 1.0608038 | J20: POKLES
A21: Kr. záväzky z OS | B21: 23.71 | D21: ='[1]Komparácia odvetvia a podniku'!J6 -> 24.47 | H21: 1 | I21: =D21/B21 -> 1.032054 | J21: RAST
A22: Celková zadlženosť | B22: 60.13 | D22: ='[1]Komparácia odvetvia a podniku'!J7 -> 36.25 | H22: 1 | I22: =D22/B22 -> 0.60286047 | J22: RAST
A23: Tokové zadlženie | B23: 2.62 | D23: ='[1]Komparácia odvetvia a podniku'!J9 -> 1.1 | H23: 1 | I23: =B23/D23 -> 2.3818182 | J23: POKLES
A24: Rentabilita aktív | B24: 8.91 | D24: ='[1]Komparácia odvetvia a podniku'!J10 -> 30.21 | H24: 1 | I24: =D24/B24 -> 3.3905724 | J24: RAST
A25: Rentabilita VK | B25: 15.96 | D25: ='[1]Komparácia odvetvia a podniku'!J11 -> 47.39 | H25: 1 | I25: =D25/B25 -> 2.9692982 | J25: RAST
A26: Rentabilita tržieb | B26: 14.12 | D26: ='[1]Komparácia odvetvia a podniku'!J12 -> 10.51 | H26: 1 | I26: =D26/B26 -> 0.74433428 | J26: RAST
A27: Prevádzková ROS | B27: 0.54 | D27: ='[1]Komparácia odvetvia a podniku'!J13 -> 0.05 | H27: 1 | I27: =D27/B27 -> 0.092592593 | J27: RAST
A30: 2018 | B30: Odvetvie | D30: GREEN, spol. s r. o. | H30: Odvetvie | I30: GREEN, spol. s r. o. | J30: Rast/pokles
A31: Celková likvidita | B31: 1.31 | D31: ='[1]Komparácia odvetvia a podniku'!D17 -> 2.83 | H31: 1 | I31: =B31/D31 -> 0.46289753 | J31: POKLES
A32: Doba obratu zásob | B32: 45.12 | D32: ='[1]Komparácia odvetvia a podniku'!D18 -> 32.91 | H32: 1 | I32: =B32/D32 -> 1.3710119 | J32: POKLES
A33: Obrat aktív | B33: 1.59 | D33: ='[1]Komparácia odvetvia a podniku'!D19 -> 2.55 | H33: 1 | I33: =D33/B33 -> 1.6037736 | J33: RAST
A34: Kr. pohľadávky z OS | B34: 32.15 | D34: ='[1]Komparácia odvetvia a podniku'!D20 -> 64.33 | H34: 1 | I34: =B34/D34 -> 0.49976683 | J34: POKLES
A35: Kr. záväzky z OS | B35: 31.71 | D35: ='[1]Komparácia odvetvia a podniku'!D21 -> 30.43 | H35: 1 | I35: =D35/B35 -> 0.95963418 | J35: RAST
A36: Celková zadlženosť | B36: 67.2 | D36: ='[1]Komparácia odvetvia a podniku'!D22 -> 38.75 | H36: 1 | I36: =D36/B36 -> 0.5766369 | J36: RAST
A37: Tokové zadlženie | B37: 3.37 | D37: ='[1]Komparácia odvetvia a podniku'!D24 -> 1.21 | H37: 1 | I37: =B37/D37 -> 2.785124 | J37: POKLES
A38: Rentabilita aktív | B38: 5.34 | D38: ='[1]Komparácia odvetvia a podniku'!D25 -> 29.49 | H38: 1 | I38: =D38/B38 -> 5.5224719 | J38: RAST
A39: Rentabilita VK | B39: 14.87 | D39: ='[1]Komparácia odvetvia a podniku'!D26 -> 48.15 | H39: 1 | I39: =D39/B39 -> 3.2380632 | J39: RAST
A40: Rentabilita tržieb | B40: 12.08 | D40: ='[1]Komparácia odvetvia a podniku'!D27 -> 11.55 | H40: 1 | I40: =D40/B40 -> 0.95612583 | J40: RAST
A41: Prevádzková ROS | B41: 0.86 | D41: ='[1]Komparácia odvetvia a podniku'!D28 -> 0.05 | H41: 1 | I41: =D41/B41 -> 0.058139535 | J41: RAST

Sheet Súvaha
A1: Aktíva | B1: 2018 | C1: 2019 | D1: 2020 | E1: 2021 | G1: Pasíva | H1: 2018 | I1: 2019 | J1: 2020 | K1: 2021
A2: SPOLU MAJETOK | B2: 9124849 | C2: 8770194 | D2: 10828574 | E2: 11021744 | G2: SPOLU VLASTNÉ IMANIE A ZÁVÄZKY | H2: 9124849 | I2: 8770194 | J2: 10828574 | K2: 11021744
A3: Neobežný majetok | B3: 1865710 | C3: 1769333 | D3: 1950654 | E3: 1924453 | G3: Vlastné imanie | H3: 5588687 | I3: 5590965 | J3: 6618673 | K3: 7530026
A4: Dlhodobý nehmotný majetok súčet | B4: 6197 | C4: 3580 | D4: 963 | E4: 0 | G4: Základné imanie súčet | H4: 2632312 | I4: 2632312 | J4: 2632312 | K4: 2632312
A5: Aktivované náklady na vývoj | G5: Základné imanie | H5: 2632312 | I5: 2632312 | J5: 2632312 | K5: 2632312
A6: Softvér | B6: 6197 | C6: 3580 | D6: 963 | G6: Zmena základného imania
A7: Oceniteľné práva | G7: Pohľadávky za upísané vlastné imanie
A8: Goodwill | G8: Emisné ážio
A9: Ostatný dlhodobý nehmotný majetok | G9: Ostatné kapitálové fondy
A10: Obstarávaný dlhodobý nehmotný majetok | G10: Zákonné rezervné fondy | H10: 309000 | I10: 309000 | J10: 309000 | K10: 309000
A11: Poskytnuté preddavky na dlhodobý nehmotný majetok | G11: Zákonný rezervný fond a nedeliteľný fond | H11: 309000 | I11: 309000 | J11: 309000 | K11: 309000
A12: Dlhodobý hmotný majetok súčet | B12: 1859513 | C12: 1765753 | D12: 1949691 | E12: 1924453 | G12: Rezervný fond na vlastné akcie a vlastné podiely
A13: Pozemky | G13: Ostatné fondy zo zisku
A14: Stavby | D14: 21761 | E14: 707182 | G14: Štatutárne fondy
A15: Samostatné hnuteľné veci a súbory hnuteľných vecí | B15: 1009130 | C15: 918142 | D15: 1238701 | E15: 1129586 | G15: Ostatné fondy
A16: Pestovateľské celky trvalých porastov | G16: Oceňovacie rozdiely z precenenia súčet | H16: -43798 | J16: 37268 | K16: 52086
A17: Základné stádo a ťažné zvieratá | G17: Oceňovacie rozdiely z precenenia majetku a záväzkov | H17: -43798 | J17: 37268 | K17: 52086
A18: Ostatný dlhodobý hmotný majetok | B18: 809671 | C18: 764786 | D18: 686907 | G18: Oceňovacie rozdiely z kapitálových účastín
A19: Obstarávaný dlhodobý hmotný majetok | B19: 40712 | C19: 27025 | D19: 2322 | G19: Oceňovacie rozdiely z precenenia pri zlúčení, splynutí a rozdelení
A20: Poskytnuté preddavky na dlhodobý hmotný majetok | C20: 55800 | D20: 0 | E20: 87685 | G20: Výsledok hospodárenia minulých rokov
A21: Opravná položka k nadobudnutému majetku | G21: Nerozdelený zisk minulých rokov
A22: Dlhodobý finančný majetok súčet | G22: Neuhradená strata minulých rokov
A23: Podielové cenné papiere a podiely v prepojených účtovných jednotkách | G23: Výsledok hospodárenia za účtovné obdobie po zdanení | H23: 2691173 | I23: 2649653 | J23: 3640093 | K23: 4536628
A24: Podielové cenné papiere a podiely s podielovou účasťou okrem v prepojených účtovných jednotkách | G24: Záväzky | H24: 3536162 | I24: 3179229 | J24: 4209901 | K24: 3491718
A25: Ostatné realizovateľné cenné papiere a podiely | G25: Dlhodobé záväzky súčet | H25: 155649 | I25: 176339 | J25: 175520 | K25: 24942
A26: Pôžičky prepojeným účtovným jednotkám | G26: Dlhodobé záväzky z obchodného styku súčet
A27: Pôžičky v rámci podielovej účasti okrem prepojeným účtovným jednotkám | G27: Záväzky z obchodného styku voči prepojeným účtovným jednotkám
A28: Ostatné pôžičky | G28: Záväzky z obchodného styku v rámci podielovej účasti okrem záväzkov voči prepojeným účtovným jednotkám
A29: Dlhové cenné papiere a ostatný dlhodobý finančný majetok | G29: Ostatné záväzky z obchodného styku
A30: Pôžičky a ostatný dlhodobý finančný majetok so zostatkovou dobou splatnosti najviac jeden rok | G30: Čistá hodnota zákazky
A31: Účty v bankách s dobou viazanosti dlhšou ako jeden rok | G31: Ostatné záväzky voči prepojeným účtovným jednotkám
A32: Obstarávaný dlhodobý finančný majetok | G32: Ostatné záväzky v rámci podielovej účasti okrem záväzkov voči prepojeným účtovným jednotkám
A33: Poskytnuté preddavky na dlhodobý finančný majetok | G33: Ostatné dlhodobé záväzky
A34: Obežný majetok | B34: 7247204 | C34: 6988247 | D34: 8863348 | E34: 9063225 | G34: Dlhodobé prijaté preddavky
A35: Zásoby súčet | B35: 2130014 | C35: 2033444 | D35: 1572406 | E35: 2048953 | G35: Dlhodobé zmenky na úhradu
A36: Materiál | B36: 1150583 | C36: 906581 | D36: 905266 | E36: 1029807 | G36: Vydané dlhopisy
A37: Nedokončená výroba a polotovary vlastnej výroby | B37: 6052 | C37: 1389 | D37: 3970 | G37: Záväzky zo sociálneho fondu | H37: 12526 | I37: 20497 | J37: 23845 | K37: 24942
A38: Výrobky | B38: 245891 | C38: 294483 | D38: 211010 | E38: 297534 | G38: Iné dlhodobé záväzky
A39: Zvieratá | G39: Dlhodobé záväzky z derivátových operácií
A40: Tovar | B40: 727488 | C40: 830991 | D40: 452160 | E40: 721612 | G40: Odložený daňový záväzok | H40: 143123 | I40: 155842 | J40: 151675
A41: Poskytnuté preddavky na zásoby | G41: Dlhodobé rezervy | H41: 195222 | I41: 189859 | J41: 177337 | K41: 165007
A42: Dlhodobé pohľadávky súčet | B42: 8640 | C42: 8280 | D42: 8040 | E42: 47189 | G42: Zákonné rezervy
A43: Pohľadávky z obchodného styku súčet | B43: 8640 | C43: 8280 | D43: 8040 | E43: 7800 | G43: Ostatné rezervy | H43: 195222 | I43: 189859 | J43: 177337 | K43: 165007
A44: Pohľadávky z obchodného styku voči prepojeným účtovným jednotkám | G44: Dlhodobé bankové úvery
A45: Pohľadávky z obchodného styku v rámci podielovej účasti okrem pohľadávok voči prepojeným účtovným jednotkám | G45: Krátkodobé záväzky súčet | H45: 2561477 | I45: 2345310 | J45: 3153666 | K45: 2793605
A46: Ostatné pohľadávky z obchodného styku | B46: 8640 | C46: 8280 | D46: 8040 | E46: 7800 | G46: Záväzky z obchodného styku súčet | H46: 1969664 | I46: 1713095 | J46: 2050320 | K46: 1908210
A47: Čistá hodnota zákazky | G47: Záväzky z obchodného styku voči prepojeným účtovným jednotkám | H47: 592627 | I47: 773122 | J47: 826912 | K47: 873193
A48: Ostatné pohľadávky voči prepojeným účtovným jednotkám | G48: Záväzky z obchodného styku v rámci podielovej účasti okrem záväzkov voči prepojeným účtovným jednotkám
A49: Ostatné pohľadávky v rámci podielovej účasti okrem pohľadávok voči prepojeným účtovným jednotkám | G49: Ostatné záväzky z obchodného styku | H49: 1377037 | I49: 939973 | J49: 1223408 | K49: 1035017
A50: Pohľadávky voči spoločníkom, členom a združeniu | G50: Čistá hodnota zákazky
A51: Pohľadávky z derivátových operácií | G51: Ostatné záväzky voči prepojeným účtovným jednotkám (361A, 36XA, 471A, 47XA)
A52: Iné pohľadávky | G52: Ostatné záväzky v rámci podielovej účasti okrem záväzkov voči prepojeným účtovným jednotkám
A53: Odložená daňová pohľadávka | E53: 39389 | G53: Záväzky voči spoločníkom a združeniu
A54: Krátkodobé pohľadávky súčet | B54: 4193062 | C54: 3400080 | D54: 5418784 | E54: 5166130 | G54: Záväzky voči zamestnancom | H54: 152726 | I54: 196472 | J54: 176496 | K54: 225420
A55: Pohľadávky z obchodného styku súčet | B55: 4163053 | C55: 2038309 | D55: 2169539 | E55: 2389493 | G55: Záväzky zo sociálneho poistenia | H55: 100899 | I55: 126845 | J55: 113038 | K55: 135859
A56: Pohľadávky z obchodného styku voči prepojeným účtovným jednotkám | B56: 289681 | C56: 362455 | D56: 494250 | E56: 431289 | G56: Daňové záväzky a dotácie | H56: 293820 | I56: 307586 | J56: 809071 | K56: 522969
A57: Pohľadávky z obchodného styku v rámci podielovej účasti okrem pohľadávok voči prepojeným účtovným jednotkám | G57: Záväzky z derivátových operácií | H57: 43798
A58: Ostatné pohľadávky z obchodného styku | B58: 3873372 | C58: 1675854 | D58: 1675289 | E58: 1958204 | G58: Iné záväzky | H58: 570 | I58: 1312 | J58: 4741 | K58: 1147
A59: Čistá hodnota zákazky | G59: Krátkodobé rezervy | H59: 623814 | I59: 467721 | J59: 703378 | K59: 508164
A60: Ostatné pohľadávky voči prepojeným účtovným jednotkám | C60: 1300000 | D60: 3200000 | E60: 2700000 | G60: Zákonné rezervy | H60: 14119 | I60: 18265 | J60: 24741 | K60: 22602
A61: Ostatné pohľadávky v rámci podielovej účasti okrem pohľadávok voči prepojeným účtovným jednotkám | G61: Ostatné rezervy | H61: 609695 | I61: 449456 | J61: 678637 | K61: 485562
A62: Pohľadávky voči spoločníkom, členom a združeniu | G62: Bežné bankové úvery (221A, 231, 232, 23X, 461A, 46XA)
A63: Sociálne poistenie | G63: Krátkodobé finančné výpomoci (241, 249, 24X, 473A, /-/255A)
A64: Daňové pohľadávky a dotácie | B64: 27623 | C64: 59363 | D64: 0 | G64: Časové rozlíšenie súčet
A65: Pohľadávky z derivátových operácií | D65: 47175 | E65: 65931 | G65: Výdavky budúcich období dlhodobé
A66: Iné pohľadávky | B66: 2386 | C66: 2408 | D66: 2070 | E66: 10706 | G66: Výdavky budúcich období kratkodobé
A67: Krátkodobý finančný majetok súčet | G67: Výnosy budúcich období dlhodobé
A68: Krátkodobý finančný majetok v prepojených účtovných jednotkách | G68: Výnosy budúcich období krátkodobé
A69: Krátkodobý finančný majetok bez krátkodobého finančného majetku v prepojených účtovných jednotkách
A70: Vlastné akcie a vlastné obchodné podiely
A71: Obstarávaný krátkodobý finančný majetok
A72: Finančné účty | B72: 915488 | C72: 1546443 | D72: 1864118 | E72: 1800953
A73: Peniaze | B73: 8295 | C73: 18553 | D73: 4047 | E73: 1388
A74: Účty v bankách | B74: 907193 | C74: 1527890 | D74: 1860071 | E74: 1799565
A75: Časové rozlíšenie súčet | B75: 11935 | C75: 12614 | D75: 14572 | E75: 34066
A76: Náklady budúcich období dlhodobé | B76: 207 | C76: 440 | D76: 100 | E76: 673
A77: Náklady budúcich období krátkodobé | B77: 8506 | C77: 12058 | D77: 14471 | E77: 32105
A78: Príjmy budúcich období dlhodobé
A79: Príjmy budúcich období krátkodobé | B79: 3222 | C79: 116 | D79: 0 | E79: 1288

Sheet VZaS
A1: VZaS | B1: 2018 | C1: 2019 | D1: 2020 | E1: 2021
A2: Čistý obrat | B2: 23298230 | C2: 25204145 | D2: 28789811 | E2: 28886746
A3: Výnosy z hospodárskej činnosti spolu súčet | B3: 23448049 | C3: 25369352 | D3: 28919418 | E3: 29189399
A4: Tržby z predaja tovaru | B4: 13650136 | C4: 14435624 | D4: 16008927 | E4: 16797907
A5: Tržby z predaja vlastných výrobkov | B5: 9624818 | C5: 10744270 | D5: 12764037 | E5: 12069850
A6: Tržby z predaja služieb | B6: 23276 | C6: 24251 | D6: 16847 | E6: 18989
A7: Zmeny stavu vnútroorganizačných zásob | B7: 36642 | C7: 25152 | D7: -80886 | E7: 87455
A8: Aktivácia
A9: Tržby z predaja dlhodobého nehmotného majetku, dlhodobého hmotného majetku a materiálu | B9: 101965 | C9: 127921 | D9: 133922 | E9: 181742
A10: Ostatné výnosy z hospodárskej činnosti | B10: 11212 | C10: 12134 | D10: 76571 | E10: 33456
A11: Náklady na hospodársku činnosť spolu | B11: 19996919 | C11: 21940406 | D11: 24214153 | E11: 23742620
A12: Náklady vynaložené na obstaranie predaného tovaru | B12: 8136209 | C12: 8799494 | D12: 9702296 | E12: 10406146
A13: Spotreba materiálu, energie a ostatných neskladovateľných dodávok | B13: 4233260 | C13: 5142863 | D13: 5740209 | E13: 5623323
A14: Opravné položky k zásobám | B14: 33439 | C14: 9803 | D14: 32340 | E14: 57232
A15: Služby | B15: 4570411 | C15: 4375195 | D15: 4702691 | E15: 4018340
A16: Osobné náklady (r. 16 až r. 19) | B16: 2596659 | C16: 3083082 | D16: 3567005 | E16: 3147940
A17: Mzdové náklady | B17: 1832663 | C17: 2208864 | D17: 2547390 | E17: 2232097
A18: Odmeny členom orgánov spoločnosti a družstva
A19: Náklady na sociálne poistenie | B19: 663563 | C19: 769077 | D19: 891707 | E19: 783991
A20: Sociálne náklady (527, 528) | B20: 100433 | C20: 105141 | D20: 127908 | E20: 131852
A21: Dane a poplatky | B21: 4034 | C21: 3369 | D21: 4502 | E21: 4394
A22: Odpisy a opravné položky k dlhodobému nehmotnému majetku a dlhodobému hmotnému majetku (r. 22 + r. 23) | B22: 239616 | C22: 233398 | D22: 228152 | E22: 245636
A23: Odpisy dlhodobého nehmotného majetku a dlhodobého hmotného majetku | B23: 239616 | C23: 233398 | D23: 228152 | E23: 245636
A24: Opravné položky k dlhodobému nehmotnému majetku a dlhodobému hmotnému majetku (+/-) (553)
A25: Zostatková cena predaného dlhodobého majetku a predaného materiálu (541, 542) | B25: 98937 | C25: 122868 | D25: 123813 | E25: 147144
A26: Opravné položky k pohľadávkam | C26: 60842
A27: Ostatné náklady na hospodársku činnosť | B27: 84354 | C27: 109492 | D27: 113145 | E27: 92465
A28: Výsledok hospodárenia z hospodárskej činnosti | B28: 3451130 | C28: 3428946 | D28: 4705265 | E28: 5466779
A29: Pridaná hodnota | B29: 6361553 | C29: 6901942 | D29: 8531389 | E29: 8869160
A30: Výnosy z finančnej činnosti spolu | B30: 85004 | C30: 21695 | D30: 181098 | E30: 144115
A31: Tržby z predaja cenných papierov a podielov
A32: Výnosy z dlhodobého finančného majetku súčet
A33: Výnosy z cenných papierov a podielov od prepojených účtovných jednotiek
A34: Výnosy z cenných papierov a podielov v podielovej účasti okrem výnosov prepojených účtovných jednotiek
A35: Ostatné výnosy z cenných papierov a podielov
A36: Výnosy z krátkodobého finančného majetku súčet
A37: Výnosy z krátkodobého finančného majetku od prepojených účtovných jednotiek
A38: Výnosy z krátkodobého finančného majetku v podielovej účasti okrem výnosov prepojených účtovných jednotiek
A39: Ostatné výnosy z krátkodobého finančného majetku
A40: Výnosové úroky
A41: Výnosové úroky od prepojených účtovných jednotiek
A42: Ostatné výnosové úroky
A43: Kurzové zisky | B43: 85004 | C43: 21695 | D43: 181098 | E43: 144115
A44: Výnosy z precenenia cenných papierov a výnosy z derivátových operácií
A45: Ostatné výnosy z finančnej činnosti (668)
A46: Náklady na finančnú činnosť spolu | B46: 60138 | C46: 79654 | D46: 117103 | E46: 110901
A47: Predané cenné papiere a podiely
A48: Náklady na krátkodobý finančný majetok (566)
A49: Opravné položky k finančnému majetku
A50: Nákladové úroky (r. 50 + r. 51)
A51: Nákladové úroky pre prepojené účtovné jednotky
A52: Ostatné nákladové úroky
A53: Kurzové straty (563) | B53: 50136 | C53: 70174 | D53: 105804 | E53: 94156
A54: Náklady na precenenie cenných papierov a náklady na derivátové operácie
A55: Ostatné náklady na finančnú činnosť | B55: 10002 | C55: 9480 | D55: 11299 | E55: 16745
A56: Výsledok hospodárenia z finančnej činnosti (+/-) (r. 29 - r. 45) | B56: 24866 | C56: -57959 | D56: 63995 | E56: 33214
A57: Výsledok hospodárenia za účtovné obdobie pred zdanením (+/-) (r. 27 + r. 55) | B57: 3475996 | C57: 3370987 | D57: 4769260 | E57: 5479993
A58: Daň z príjmov (r. 58 + r. 59) | B58: 784823 | C58: 721334 | D58: 1129167 | E58: 943365
A59: Daň z príjmov splatná (591, 595) | B59: 766552 | C59: 708616 | D59: 1143241 | E59: 1138368
A60: Daň z príjmov odložená (+/-) (592) | B60: 18271 | C60: 12718 | D60: -14074 | E60: -195003
A61: Prevod podielov na výsledku hospodárenia spoločníkom
A62: Výsledok hospodárenia za účtovné obdobie po zdanení | B62: 2691173 | C62: 2649653 | D62: 3640093 | E62: 4536628

Sheet Ukazovatele
A1: Ukazovatele | B1: M. J. | C1: Rok
C2: 2018 | D2: 2019 | E2: 2020
A3: Ukazovatele likvidity
A4: Celková likvidita | B4: koef. | C4: 2.83 | D4: 2.98 | E4: 2.81
A5: Ukazovatele aktivity
A6: Doba obratu zásob | B6: deň | C6: 32.91 | D6: 29.04 | E6: =(Súvaha!D35/(SUM(VZaS!D4:D6)/360)) -> 19.662031
A7: Obrat aktív | B7: koef. | C7: 2.55 | D7: 2.87 | E7: 2.66
A8: Doba inkasa kr. pohľadávok z obchodného styku | B8: deň | C8: 64.33 | D8: 29.11 | E8: 27.13
A9: Doba splatnosti kr. záväzkov z obchodného styku | B9: deň | C9: 30.43 | D9: 24.47 | E9: 25.64
A10: Ukazovatele zadlženosti
A11: Celková zadlženosť | B11: % | C11: 38.75 | D11: 36.25 | E11: 38.88
A12: Úverová zadlženosť | B12: % | C12: 0 | D12: 0 | E12: 0
A13: Tokové zadlženie | B13: rok | C13: 1.21 | D13: 1.1 | E13: 1.09
A14: Ukazovatele rentability
A15: Rentabilita aktív | B15: % | C15: 29.49 | D15: 30.21 | E15: 33.62
A16: Rentabilita vlastného kapitálu | B16: % | C16: 48.15 | D16: 47.39 | E16: 55
A17: Rentabilita tržieb | B17: % | C17: 11.55 | D17: 10.51 | E17: 12.64
A18: Prevádzková rentabilita tržieb | B18: % | C18: 0.05 | D18: 0.05 | E18: 0.27

Sheet Pyramidálny rozklad
A1: Pyramídový rozklad | B1: Rok
B2: 2018 | C2: 2019 | D2: 2020 | E2: 19-18 | F2: 20-19
A3: 0. stupeň rozkladu | E3: zmena | F3: zmena
A4: ČZ/VK (rentabilita vlastného kapitálu) | B4: 0.4815 | C4: 0.4739 | D4: 0.55 | E4: -0.0076 | F4: 0.0761
A5: 1. stupeň rozkladu | E5: vplyvy | I5: 19-18 | J5: 20-19
A6: ČZ/T (rentabilita tržieb - ROS) | B6: 0.1155 | C6: 0.1051 | D6: 0.1264 | E6: -0.045 | F6: -5.8984 | G6: 0.0943 | H6: 1.2399 | I6: -0.0104 | J6: 0.0213
A7: AKT/T (viazanosť majetku) | B7: 0.3917 | C7: 0.348 | D7: 0.3761 | E7: 0.0565 | F7: 7.4072 | G7: -0.0398 | H7: -0.5235 | I7: -0.0437 | J7: 0.0282
A8: VK/AKT (stupeň samofinancovania) | B8: 0.6125 | C8: 0.6375 | D8: 0.6112 | E8: -0.0191 | F8: -2.5088 | G8: 0.0216 | H8: 0.2835 | I8: 0.025 | J8: -0.0263
A9: 2. stupeň rozkladu | E9: -0.0076 | F9: -1 | G9: 0.0761 | H9: 0.9999
A10: ČZ/ZHČ (podiel zisku na hospod. výsledku) | B10: 0.7798 | C10: 0.7727 | D10: 0.7736 | E10: -0.001 | F10: -0.0967 | G10: 0.0001 | H10: 0.0063 | I10: 19-18 | J10: 20-19
A11: ZHČ/VHČ (ziskovosť z HČ) | B11: 0.1472 | C11: 0.1352 | D11: 0.1627 | E11: -0.0094 | F11: -0.9046 | G11: 0.0214 | H11: 1.0048 | I11: -0.012 | J11: 0.0275
A12: T/VHČ (štruktúra tržieb z HČ) | B12: 0.9936 | C12: 0.9935 | D12: 0.9955 | E12: 0 | F12: 0.0013 | G12: -0.0002 | H12: -0.0111
A13: Kontrola | E13: -0.0104 | F13: -1 | G13: =SUM(G10:G12) -> 0.0213 | H13: 1
A14: NM/T (viazanosť neobežného majetku) | B14: 0.0801 | C14: 0.0702 | D14: 0.0678 | E14: -0.0099 | F14: -0.2261 | G14: -0.0024 | H14: -0.0868
A15: OM/T (viazanosť obežného majektu) | B15: 0.3111 | C15: 0.2773 | D15: 0.3079 | E15: -0.0338 | F15: -0.7736 | G15: 0.0306 | H15: 1.0866
A16: OST AKT/T (viazanosť ostatného majetku) | B16: 0.0005 | C16: 0.0005 | D16: 0.0005 | E16: 0 | F16: -0.0003 | G16: 0 | H16: 0.0002
A17: Kontrola | E17: -0.0437 | F17: -1 | G17: 0.0282 | H17: 1
A18: VK/ZÁV (zadlženosť vlastného imania) | B18: 1.5804 | C18: 1.7586 | D18: 1.5722 | E18: 0.0338 | F18: 1.3519 | G18: -0.0183 | H18: -0.696
A19: ZÁV/AKT (zadlženosť aktív) | B19: 0.3875 | C19: 0.3625 | D19: 0.3888 | E19: -0.0088 | F19: -0.3519 | G19: -0.008 | H19: -0.304
A20: Kontrola | E20: 0.025 | F20: 1 | G20: -0.0263 | H20: -1
A21: NHČ/VHČ | B21: 0.8528 | C21: 0.8648 | D21: 0.8373 | E21: -0.012 | G21: 0.0275
A22: 3. stupeň rozkladu
A23: NPT/VHČ (nákladovosť predaného tovaru) | B23: 0.347 | C23: 0.3469 | D23: 0.3355 | E23: =(C23-B23)*-1 -> 0.0001 | F23: -0.0111 | G23: 0.0114 | H23: 0.4125
A24: SME/VHČ (materiálová a energetická nákladovosť) | B24: 0.1805 | C24: 0.2027 | D24: 0.1985 | E24: =(C24-B24)*-1 -> -0.0222 | F24: 1.8452 | G24: 0.0042 | H24: 0.1536
A25: SL/VHČ (nákladovosť služieb) | B25: 0.1949 | C25: 0.1725 | D25: 0.1626 | E25: =(C25-B25)*-1 -> 0.0224 | F25: -1.8681 | G25: 0.0098 | H25: 0.3575
A26: ON/VHČ (nákladovosť osobných nákladov - mzdových) | B26: 0.1107 | C26: 0.1215 | D26: 0.1233 | E26: =(C26-B26)*-1 -> -0.0108 | F26: 0.8973 | G26: -0.0018 | H26: -0.0659
A27: ODP/VHČ (odpisová nákladovosť) | B27: 0.0102 | C27: 0.0092 | D27: 0.0079 | E27: =(C27-B27)*-1 -> 0.001 | F27: -0.0848 | G27: 0.0013 | H27: 0.0476
A28: OST/VHČ (ostatná nákladovosť) | B28: 0.0094 | C28: 0.0121 | D28: 0.0095 | E28: =(C28-B28)*-1 -> -0.0027 | F28: 0.2214 | G28: 0.0026 | H28: 0.0947
A29: Kontrola | B29: 0.8528 | C29: 0.8648 | D29: 0.8373 | E29: =SUM(E23:E28) -> -0.0122 | F29: =SUM(F23:F28) -> 0.9999 | G29: =SUM(G23:G28) -> 0.0275 | H29: =SUM(H23:H28) -> 1
A30: DNM/T (viazanosť dlhodobého nehmotného majetku) | B30: 0.0003 | C30: 0.0001 | D30: 0 | E30: -0.0001 | F30: 0.0028 | G30: -0.0001 | H30: -0.0039
A31: DHM/T (viazanosť dlhodobého hmotného majetku) | B31: 0.0798 | C31: ='PR 2021'!B31 -> 0.0701 | D31: ='PR 2021'!D31 -> 0.066620726 | E31: -0.0098 | F31: 0.2234 | G31: =-0.0023 -> -0.0023 | H31: -0.083
A32: DFM/T (viazanosť dlhodobého finančného majetku) | B32: 0 | C32: 0 | D32: 0 | E32: 0 | F32: 0 | G32: 0 | H32: 0
A33: ZÁS/T (viazanosť zásob) | B33: 0.0914 | C33: 0.0807 | D33: 0.0546 | E33: -0.0107 | F33: 0.246 | G33: -0.0261 | H33: -0.9257
A34: DPOH/T (viazanosť dlhodobých pohľadávok) | B34: 0.0004 | C34: 0.0003 | D34: 0.0003 | E34: 0 | F34: 0.001 | G34: 0 | H34: -0.0017
A35: KPOH/T (viazanosť krátkodobých pohľadávok) | B35: 0.18 | C35: 0.1349 | D35: 0.1882 | E35: -0.0451 | F35: 1.032 | G35: 0.0533 | H35: 1.8938
A36: FU/T (viazanosť finančných účtov) | B36: 0.0393 | C36: 0.0614 | D36: 0.0647 | E36: 0.0221 | F36: -0.5051 | G36: 0.0034 | H36: 0.1205
A37: Kontrola | E37: =SUM(E30:E36) -> -0.0436 | F37: 1 | G37: =SUM(G30:G36) -> 0.0282 | H37: 1

Sheet PR 2021
A1: Pyramídový rozklad | B1: Rok
B2: 2019 | C2: 2020 | D2: 2021 | E2: 20-19 | F2: 21-20
A3: 0. stupeň rozkladu | E3: zmena | F3: zmena
A4: ČZ/VK (rentabilita vlastného kapitálu) | B4: 0.4739 | C4: 0.55 | D4: =VZaS!E62/Súvaha!K3 -> 0.60247176 | E4: =C4-B4 -> 0.0761 | F4: =D4-C4 -> 0.052471758
A5: 1. stupeň rozkladu | E5: vplyvy | I5: 20-19 | J5: 21-20
A6: ČZ/T (rentabilita tržieb - ROS) | B6: 0.1051 | C6: 0.1264 | D6: 0.15705 | E6: 0.0943 | F6: 1.2399 | G6: 0.125 | H6: 2.381 | I6: =C6-B6 -> 0.0213 | J6: =D6-C6 -> 0.03065
A7: AKT/T (viazanosť majetku) | B7: 0.348 | C7: 0.3761 | D7: 0.38155 | E7: -0.0398 | F7: -0.5235 | G7: -0.0083 | H7: -0.1575 | I7: =C7-B7 -> 0.0281 | J7: =D7-C7 -> 0.00545
A8: VK/AKT (stupeň samofinancovania) | B8: 0.6375 | C8: 0.6112 | D8: 0.6832 | E8: 0.0216 | F8: 0.2835 | G8: -0.0642 | H8: -1.2235 | I8: =C8-B8 -> -0.0263 | J8: =D8-C8 -> 0.072
A9: 2. stupeň rozkladu | E9: =SUM(E6:E8) -> 0.0761 | F9: =SUM(F6:F8) -> 0.9999 | G9: =SUM(G6:G8) -> 0.0525 | H9: =SUM(H6:H8) -> 1
A10: ČZ/ZHČ (podiel zisku na hospod. výsledku) | B10: 0.7727 | C10: 0.7736 | D10: 0.82985 | E10: 0.00013 | F10: 0.0063 | G10: 0.00991 | H10: 0.3239
A11: ZHČ/VHČ (ziskovosť z HČ) | B11: 0.1352 | C11: 0.1627 | D11: 0.18729 | E11: 0.02141 | F11: 1.0048 | G11: 0.01986 | H11: 0.6487 | I11: =C11-B11 -> 0.0275 | J11: =D11-C11 -> 0.02459
A12: T/VHČ (štruktúra tržieb z HČ) | B12: 0.9935 | C12: 0.9955 | D12: 0.98963 | E12: -0.00024 | F12: -0.0111 | G12: 0.00084 | H12: 0.0274
A13: Kontrola | E13: =SUM(E10:E12) -> 0.0213 | F13: =SUM(F10:F12) -> 1 | G13: =SUM(G10:G12) -> 0.03061 | H13: =SUM(H10:H12) -> 1
A14: NM/T (viazanosť neobežného majetku) | B14: 0.0702 | C14: 0.0678 | D14: 0.06662 | E14: -0.0024 | F14: -0.0868 | G14: -0.0011 | H14: -0.2091
A15: OM/T (viazanosť obežného majektu) | B15: 0.2773 | C15: 0.3079 | D15: 0.31375 | E15: 0.0306 | F15: 1.0866 | G15: 0.0059 | H15: 1.085
A16: OST AKT/T (viazanosť ostatného majetku) | B16: 0.0005 | C16: 0.0005 | D16: 0.00118 | E16: 0 | F16: 0.0002 | G16: 0.0007 | H16: 0.1241
A17: Kontrola | E17: =SUM(E14:E16) -> 0.0282 | F17: =SUM(F14:F16) -> 1 | G17: =SUM(G14:G16) -> 0.0055 | H17: =SUM(H14:H16) -> 1
A18: VK/ZÁV (zadlženosť vlastného imania) | B18: 1.7586 | C18: 1.5722 | D18: 2.15654 | E18: -0.07 | F18: -2.6654 | G18: 0.2062 | H18: 2.8644
A19: ZÁV/AKT (zadlženosť aktív) | B19: 0.3625 | C19: 0.3888 | D19: 0.3168 | E19: 0.0438 | F19: 1.6654 | G19: -0.1342 | H19: -1.8644
A20: Kontrola | E20: =SUM(E18:E19) -> -0.0262 | F20: =SUM(F18:F19) -> -1 | G20: =SUM(G18:G19) -> 0.072 | H20: =SUM(H18:H19) -> 1
A21: NHČ/VHČ | B21: 0.8648 | C21: 0.8373 | D21: =VZaS!E11/VZaS!E3 -> 0.81339873 | E21: =(C21-B21)*-1 -> 0.0275 | G21: =(D21-C21)*-1 -> 0.023901273
A22: 3. stupeň rozkladu
A23: NPT/VHČ (nákladovosť predaného tovaru) | B23: 0.3469 | C23: 0.3355 | D23: =VZaS!E12/VZaS!E3 -> 0.35650429 | E23: =(C23-B23)/-1 -> 0.0114 | F23: =E23/E29 -> 0.41304348 | G23: =(D23-C23)*-1 -> -0.021004291 | H23: =G23/G29 -> -0.87879384
A24: SME/VHČ (materiálová a energetická nákladovosť) | B24: 0.2027 | C24: 0.1985 | D24: =VZaS!E13/VZaS!E3 -> 0.1926495 | E24: =(C24-B24)/-1 -> 0.0042 | F24: =E24/E29 -> 0.15217391 | G24: =(D24-C24)*-1 -> 0.0058505042 | H24: =G24/G29 -> 0.24477794
A25: SL/VHČ (nákladovosť služieb) | B25: 0.1725 | C25: 0.1626 | D25: =VZaS!E15/VZaS!E3 -> 0.13766436 | E25: =(C25-B25)/-1 -> 0.0099 | F25: =E25/E29 -> 0.35869565 | G25: =(D25-C25)*-1 -> 0.024935638 | H25: =G25/G29 -> 1.0432766
A26: ON/VHČ (nákladovosť osobných nákladov - mzdových) | B26: 0.1215 | C26: 0.1233 | D26: =VZaS!E16/VZaS!E3 -> 0.10784532 | E26: =(C26-B26)/-1 -> -0.0018 | F26: =E26/E29 -> -0.065217391 | G26: =(D26-C26)*-1 -> 0.015454683 | H26: =G26/G29 -> 0.64660501
A27: ODP/VHČ (odpisová nákladovosť) | B27: 0.0092 | C27: 0.0079 | D27: =VZaS!E22/VZaS!E3 -> 0.0084152469 | E27: =(C27-B27)/-1 -> 0.0013 | F27: =E27/E29 -> 0.047101449 | G27: =(D27-C27)*-1 -> -0.00051524692 | H27: =G27/G29 -> -0.021557301
A28: OST/VHČ (ostatná nákladovosť) | B28: 0.0121 | C28: 0.0095 | D28: =(VZaS!E14+VZaS!E21+VZaS!E25+VZaS!E26+VZaS!E27)/VZaS!E3 -> 0.010320014 | E28: =(C28-B28)/-1 -> 0.0026 | F28: =E28/E29 -> 0.094202899 | G28: =(D28-C28)*-1 -> -0.00082001378 | H28: =G28/G29 -> -0.034308373
A29: Kontrola | B29: 0.8648 | C29: 0.8373 | D29: =SUM(D23:D28) -> 0.81339873 | E29: =SUM(E23:E28) -> 0.0276 | F29: =SUM(F23:F28) -> 1 | G29: =SUM(G23:G28) -> 0.023901273 | H29: =SUM(H23:H28) -> 1
A30: DNM/T (viazanosť dlhodobého nehmotného majetku) | B30: 0.0001 | C30: 0 | D30: ='PR - simulácia'!C29 -> 0 | E30: =C30-B30 -> -0.0001 | F30: =E30/E37 -> -0.0035714286 | G30: =D30-C30 -> 0 | H30: =G30/G37 -> 0
A31: DHM/T (viazanosť dlhodobého hmotného majetku) | B31: 0.0701 | C31: 0.0677 | D31: ='PR - simulácia'!C30 -> 0.066620726 | E31: =C31-B31 -> -0.0024 | F31: =E31/E37 -> -0.085714286 | G31: =D31-C31 -> -0.0010792737 | H31: =G31/G37 -> -0.22154821
A32: DFM/T (viazanosť dlhodobého finančného majetku) | B32: 0 | C32: 0 | D32: ='PR - simulácia'!C31 -> 0 | E32: =C32-B32 -> 0 | F32: =E32/E37 -> 0 | G32: =D32-C32 -> 0 | H32: =G32/G37 -> 0
A33: ZÁS/T (viazanosť zásob) | B33: 0.0807 | C33: 0.0546 | D33: ='PR - simulácia'!C32 -> 0.070930668 | E33: =C33-B33 -> -0.0261 | F33: =E33/E37 -> -0.93214286 | G33: =D33-C33 -> 0.016330668 | H33: =G33/G37 -> 3.3522824
A34: DPOH/T (viazanosť dlhodobých pohľadávok) | B34: 0.0003 | C34: 0.0003 | D34: ='PR - simulácia'!C33 -> 0.0016335891 | E34: =C34-B34 -> 0 | F34: =E34/E37 -> 0 | G34: =D34-C34 -> 0.0013335891 | H34: =G34/G37 -> 0.27375287
A35: KPOH/T (viazanosť krátkodobých pohľadávok) | B35: 0.1349 | C35: 0.1882 | D35: ='PR - simulácia'!C34 -> 0.17884112 | E35: =C35-B35 -> 0.0533 | F35: =E35/E37 -> 1.9035714 | G35: =D35-C35 -> -0.0093588786 | H35: =G35/G37 -> -1.9211464
A36: FU/T (viazanosť finančných účtov) | B36: 0.0614 | C36: 0.0647 | D36: ='PR - simulácia'!C35 -> 0.062345402 | E36: =C36-B36 -> 0.0033 | F36: =E36/E37 -> 0.11785714 | G36: =D36-C36 -> -0.0023545975 | H36: =G36/G37 -> -0.48334066
A37: Kontrola | E37: =SUM(E30:E36) -> 0.028 | F37: =SUM(F30:F36) -> 1 | G37: =SUM(G30:G36) -> 0.0048715073 | H37: =SUM(H30:H36) -> 1

Sheet Simulácia VZaS
B1: Aktíva | C1: 2018 | D1: 2019 | E1: 2020 | F1: IV 20/19 | G1: IV 19/18 | H1: priemer | I1: 2021 | J1: Plán 2022
B2: SPOLU MAJETOK | C2: 9124849 | D2: 8770194 | E2: 10828574 | F2: =E2/D2 -> 1.2347018 | G2: =D2/C2 -> 0.96113306 | H2: =AVERAGE(F2:G2) -> 1.0979174 | I2: 11021744 | J2: =J3+J12+J32 -> 11699051 | M2: Tabuľka 1: Výpočet zásob a pohľadávok
A3: A. | B3: Neobežný majetok | C3: 1865710 | D3: 1769333 | E3: 1950654 | F3: =E3/D3 -> 1.1024799 | G3: =D3/C3 -> 0.94834299 | H3: =AVERAGE(F3:G3) -> 1.0254114 | I3: 1924453 | J3: =J4+J6 -> 2014156 | N3: 2021 | O3: Plán 2022
A4: A.I. | B4: Dlhodobý nehmotný majetok súčet | C4: 6197 | D4: 3580 | E4: 963 | F4: =E4/D4 -> 0.26899441 | G4: =D4/C4 -> 0.57769889 | H4: =AVERAGE(F4:G4) -> 0.42334665 | I4: 0 | J4: 0 | M4: Tržby z predaja t., v., sl, | N4: =$I$66 -> 28886746 | O4: =$J$66 -> 30210148
A5: 2. | B5: Softvér | C5: 6197 | D5: 3580 | E5: 963 | F5: =E5/D5 -> 0.26899441 | G5: =D5/C5 -> 0.57769889 | H5: =AVERAGE(F5:G5) -> 0.42334665 | M5: DOZ | N5: 17
A6: A.II. | B6: Dlhodobý hmotný majetok súčet | C6: 1859513 | D6: 1765753 | E6: 1949691 | F6: =E6/D6 -> 1.1041697 | G6: =D6/C6 -> 0.9495782 | H6: =AVERAGE(F6:G6) -> 1.026874 | I6: 1924453 | J6: =2397893-383737 -> 2014156 | M6: Zásoby | N6: =($N$5*N4)/360 -> 1364096.3 | O6: =($N$5*O4)/360 -> 1426590.3
A7: 2. | B7: Stavby | E7: 21761 | F7: 0 | H7: =AVERAGE(F7:G7) -> 0 | I7: 707182 | J7: =I7-318 -> 706864 | K7: =I7/I6 -> 0.36747169 | M7: Inkaso kr.phľ. | N7: 57
A8: 3. | B8: Samostatné hnuteľné veci a súbory hnuteľných vecí | C8: 1009130 | D8: 918142 | E8: 1238701 | F8: =E8/D8 -> 1.3491388 | G8: =D8/C8 -> 0.9098352 | H8: =AVERAGE(F8:G8) -> 1.129487 | I8: 1129586 | J8: 1035231 | K8: =I8/I7 -> 1.5973059 | M8: Kr.pohľ. | N8: =($N$7*N4)/360 -> 4573734.8 | O8: =($N$7*O4)/360 -> 4783273.5
A9: 6. | B9: Ostatný dlhodobý hmotný majetok | C9: 809671 | D9: 764786 | E9: 686907 | F9: =E9/D9 -> 0.8981689 | G9: =D9/C9 -> 0.9445639 | H9: =AVERAGE(F9:G9) -> 0.9213664 | I9: 606824 | J9: 526741 | K9: =I9/I8 -> 0.53720921 | M9: Inkaso kr.phľ. Z OS | N9: 20
A10: 7. | B10: Obstarávaný dlhodobý hmotný majetok | C10: 40712 | D10: 27025 | E10: 2322 | F10: =E10/D10 -> 0.085920444 | G10: =D10/C10 -> 0.6638092 | H10: =AVERAGE(F10:G10) -> 0.37486482 | I10: 0 | J10: 68800 | K10: =I10/I9 -> 0 | M10: Kr.pohľ. Z OS | N10: =($N$9*N4)/360 -> 1604819.2 | O10: =($N$9*O4)/360 -> 1678341.6
A11: 8. | B11: Poskytnuté preddavky na dlhodobý hmotný majetok | D11: 55800 | E11: 0 | F11: =E11/D11 -> 0 | G11: 0 | H11: =AVERAGE(F11:G11) -> 0 | I11: 87685 | J11: =J6-J7-J8-J9-J10 -> -323480
A12: B. | B12: Obežný majetok | C12: 7247204 | D12: 6988247 | E12: 8863348 | F12: =E12/D12 -> 1.2683221 | G12: =D12/C12 -> 0.96426801 | H12: =AVERAGE(F12:G12) -> 1.116295 | I12: 9063225 | J12: =J13+J18+J21+J29 -> 9651509.9
A13: B.I. | B13: Zásoby súčet | C13: 2130014 | D13: 2033444 | E13: 1572406 | F13: =E13/D13 -> 0.77327234 | G13: =D13/C13 -> 0.95466227 | H13: =AVERAGE(F13:G13) -> 0.8639673 | I13: 2048953 | J13: =O6 -> 1426590.3
A14: B.I.1. | B14: Materiál | C14: 1150583 | D14: 906581 | E14: 905266 | F14: =E14/D14 -> 0.9985495 | G14: =D14/C14 -> 0.78793186 | H14: =AVERAGE(F14:G14) -> 0.89324068 | I14: 1029807 | J14: =J13*0.64 -> 913017.81 | K14: =I14/$I$13 -> 0.50260157
A15: 2. | B15: Nedokončená výroba a polotovary vlastnej výroby | C15: 6052 | D15: 1389 | E15: 3970 | F15: =E15/D15 -> 2.8581713 | G15: =D15/C15 -> 0.22951091 | H15: =AVERAGE(F15:G15) -> 1.5438411 | J15: =J13*0.002 -> 2853.1807 | K15: =I15/$I$13 -> 0
A16: 3. | B16: Výrobky | C16: 245891 | D16: 294483 | E16: 211010 | F16: =E16/D16 -> 0.71654391 | G16: =D16/C16 -> 1.197616 | H16: =AVERAGE(F16:G16) -> 0.95707996 | I16: 297534 | J16: =J13*0.11 -> 156924.94 | K16: =I16/$I$13 -> 0.1452127
A17: 5. | B17: Tovar | C17: 727488 | D17: 830991 | E17: 452160 | F17: =E17/D17 -> 0.54412142 | G17: =D17/C17 -> 1.1422745 | H17: =AVERAGE(F17:G17) -> 0.84319796 | I17: 721612 | J17: =J13-J14-J15-J16 -> 353794.4 | K17: =I17/$I$13 -> 0.35218573
A18: B.II. | B18: Dlhodobé pohľadávky súčet | C18: 8640 | D18: 8280 | E18: 8040 | F18: =E18/D18 -> 0.97101449 | G18: =D18/C18 -> 0.95833333 | H18: =AVERAGE(F18:G18) -> 0.96467391 | I18: 47189 | J18: =I18*$H$18 -> 45521.997 | K18: =I18/$I$13 -> 0.023030787
A19: 1.c. | B19: Ostatné pohľadávky z obchodného styku | C19: 8640 | D19: 8280 | E19: 8040 | F19: =E19/D19 -> 0.97101449 | G19: =D19/C19 -> 0.95833333 | H19: =AVERAGE(F19:G19) -> 0.96467391 | I19: 7800 | J19: =J18 -> 45521.997 | K19: =I19/$I$13 -> 0.0038068223
B20: Odložená daňová pohľadávka | I20: 39389 | K20: =I20/$I$13 -> 0.019223965
A21: B.III. | B21: Krátkodobé pohľadávky súčet | C21: 4193062 | D21: 3400080 | E21: 5418784 | F21: =E21/D21 -> 1.5937225 | G21: =D21/C21 -> 0.81088236 | H21: =AVERAGE(F21:G21) -> 1.2023024 | I21: 5166130 | J21: =O8 -> 4783273.5
A22: B.III.1. | B22: Pohľadávky z obchodného styku súčet | C22: 4163053 | D22: 2038309 | E22: 2169539 | F22: =E22/D22 -> 1.0643818 | G22: =D22/C22 -> 0.4896188 | H22: =AVERAGE(F22:G22) -> 0.7770003 | I22: 2389493 | J22: =O10 -> 1678341.6
A23: 1.a. | B23: Pohľadávky z obchodného styku voči prepojeným účtovným jednotkám | C23: 289681 | D23: 362455 | E23: 494250 | F23: =E23/D23 -> 1.3636176 | G23: =D23/C23 -> 1.2512212 | H23: =AVERAGE(F23:G23) -> 1.3074194 | I23: 431289 | J23: =J22-J24 -> -297486.27
A24: 1.c. | B24: Ostatné pohľadávky z obchodného styku | C24: 3873372 | D24: 1675854 | E24: 1675289 | F24: =E24/D24 -> 0.99966286 | G24: =D24/C24 -> 0.43266022 | H24: =AVERAGE(F24:G24) -> 0.71616154 | I24: 1958204 | J24: =I24*1.009 -> 1975827.8
A25: 3. | B25: Ostatné pohľadávky voči prepojeným účtovným jednotkám | D25: 1300000 | E25: 3200000 | F25: =E25/D25 -> 2.4615385 | G25: 0 | H25: =AVERAGE(F25:G25) -> 1.2307692 | I25: 2700000 | J25: =J21-J22-J28 -> 3094332.9
A26: 7. | B26: Daňové pohľadávky a dotácie | C26: 27623 | D26: 59363 | E26: 0 | F26: =E26/D26 -> 0 | G26: =D26/C26 -> 2.1490425 | H26: =AVERAGE(F26:G26) -> 1.0745212 | J26: 0
A27: 8. | B27: Pohľadávky z derivátových operácií | E27: 47175 | H27: =AVERAGE(F27:G27) -> #DIV/0! | I27: 65931
A28: 9. | B28: Iné pohľadávky | C28: 2386 | D28: 2408 | E28: 2070 | F28: =E28/D28 -> 0.85963455 | G28: =D28/C28 -> 1.0092205 | H28: =AVERAGE(F28:G28) -> 0.9344275 | I28: 10706 | J28: =I28*0.99 -> 10598.94
A29: B.V. | B29: Finančné účty | C29: 915488 | D29: 1546443 | E29: 1864118 | F29: =E29/D29 -> 1.205423 | G29: =D29/C29 -> 1.6892007 | H29: =AVERAGE(F29:G29) -> 1.4473119 | I29: 1800953 | J29: =J21*0.71 -> 3396124.2
A30: B.V.1. | B30: Peniaze | C30: 8295 | D30: 18553 | E30: 4047 | F30: =E30/D30 -> 0.21813184 | G30: =D30/C30 -> 2.2366486 | H30: =AVERAGE(F30:G30) -> 1.2273902 | I30: 1388 | J30: =I30*1.02 -> 1415.76
A31: 2. | B31: Účty v bankách | C31: 907193 | D31: 1527890 | E31: 1860071 | F31: =E31/D31 -> 1.2174116 | G31: =D31/C31 -> 1.6841951 | H31: =AVERAGE(F31:G31) -> 1.4508033 | I31: 1799565 | J31: =J29-J30 -> 3394708.4
A32: C. | B32: Časové rozlíšenie súčet | C32: 11935 | D32: 12614 | E32: 14572 | F32: =E32/D32 -> 1.1552244 | G32: =D32/C32 -> 1.0568915 | H32: =AVERAGE(F32:G32) -> 1.1060579 | I32: 34066 | J32: =I32*0.98 -> 33384.68
B34: Pasíva | C34: 2018 | D34: 2019 | E34: 2020 | F34: IV 20/19 | G34: IV 19/18 | H34: priemer | I34: 2021 | J34: Plán 2022 | M34: Tabuľka 1: Výpočet krátkodobých záväzkov
B35: SPOLU VLASTNÉ IMANIE A ZÁVÄZKY | C35: 9124849 | D35: 8770194 | E35: 10828574 | F35: =E35/D35 -> 1.2347018 | G35: =D35/C35 -> 0.96113306 | H35: =AVERAGE(F35:G35) -> 1.0979174 | I35: 11021744 | J35: =J36+J42+J63 -> 11699050 | N35: 2021 | O35: Plán 2022
A36: A. | B36: Vlastné imanie | C36: 5588687 | D36: 5590965 | E36: 6618673 | F36: =E36/D36 -> 1.1838159 | G36: =D36/C36 -> 1.0004076 | H36: =AVERAGE(F36:G36) -> 1.0921117 | I36: 7530026 | J36: =J37+J38+J39+J41 -> 7802189.4 | M36: Tržby z predaja t., v., sl, | N36: =$I$66 -> 28886746 | O36: =$J$66 -> 30210148
A37: A.I. | B37: Základné imanie súčet | C37: 2632312 | D37: 2632312 | E37: 2632312 | F37: =E37/D37 -> 1 | G37: =D37/C37 -> 1 | H37: =AVERAGE(F37:G37) -> 1 | I37: 2632312 | J37: =I37 -> 2632312 | M37: Doba splatnosti záv. | N37: 37
A38: A.IV. | B38: Zákonné rezervné fondy | C38: 309000 | D38: 309000 | E38: 309000 | F38: =E38/D38 -> 1 | G38: =D38/C38 -> 1 | H38: =AVERAGE(F38:G38) -> 1 | I38: 309000 | J38: =I38 -> 309000 | M38: K.záv | N38: =($N$37*N36)/360 -> 2968915.6 | O38: =($N$37*O36)/360 -> 3104931.9
A39: A.VI. | B39: Oceňovacie rozdiely z precenenia súčet | C39: -43798 | E39: 37268 | H39: =AVERAGE(F39:G39) -> #DIV/0! | I39: 52086 | J39: 0 | M39: Doba splat.záv z OS | N39: 23
A40: A.VI.1. | B40: Oceňovacie rozdiely z precenenia majetku a záväzkov | C40: -43798 | H40: =AVERAGE(F40:G40) -> #DIV/0! | J40: 0 | M40: K.záv. Z OS | N40: =($N$39*N36)/360 -> 1845542.1 | O40: =($N$39*O36)/360 -> 1930092.8
A41: A.VIII. | B41: Výsledok hospodárenia za účtovné obdobie po zdanení | C41: 2691173 | D41: 2649653 | E41: 3640093 | F41: =E41/D41 -> 1.3737999 | G41: =D41/C41 -> 0.98457178 | H41: =AVERAGE(F41:G41) -> 1.1791858 | I41: 4536628 | J41: =J102 -> 4860877.4 | K41: =K102 -> 0
A42: B. | B42: Záväzky | C42: 3536162 | D42: 3179229 | E42: 4209901 | F42: =E42/D42 -> 1.3241893 | G42: =D42/C42 -> 0.89906203 | H42: =AVERAGE(F42:G42) -> 1.1116257 | I42: 3491718 | J42: =J43+J47+J49+J50+J58+J61+J62 -> 3896861
A43: B.I. | B43: Dlhodobé záväzky súčet | C43: 155649 | D43: 176339 | E43: 175520 | F43: =E43/D43 -> 0.99535554 | G43: =D43/C43 -> 1.1329273 | H43: =AVERAGE(F43:G43) -> 1.0641414 | I43: 24942 | J43: =J46+J45 -> 25191.42
A44: 1.b. | B44: Záväzky z obchodného styku v rámci podielovej účasti okrem záväzkov voči prepojeným jednotkám
A45: 9. | B45: Záväzky zo sociálneho fondu | C45: 12526 | D45: 20497 | E45: 23845 | F45: =E45/D45 -> 1.163341 | G45: =D45/C45 -> 1.6363564 | H45: =AVERAGE(F45:G45) -> 1.3998487 | I45: 24942 | J45: =I45*1.01 -> 25191.42
A46: 12. | B46: Odložený daňový záväzok | C46: 143123 | D46: 155842 | E46: 151675 | F46: =E46/D46 -> 0.97326138 | G46: =D46/C46 -> 1.0888676 | H46: =AVERAGE(F46:G46) -> 1.0310645 | J46: =I46*0.9 -> 0
A47: B.II. | B47: Dlhodobé rezervy | C47: 195222 | D47: 189859 | E47: 177337 | F47: =E47/D47 -> 0.93404579 | G47: =D47/C47 -> 0.97252871 | H47: =AVERAGE(F47:G47) -> 0.95328725 | I47: 165007 | J47: =I47*1.009 -> 166492.06
A48: 2. | B48: Ostatné rezervy | C48: 195222 | D48: 189859 | E48: 177337 | F48: =E48/D48 -> 0.93404579 | G48: =D48/C48 -> 0.97252871 | H48: =AVERAGE(F48:G48) -> 0.95328725 | I48: 165007 | J48: =J47 -> 166492.06
A49: B.III | B49: Dlhodobé bankové úvery | H49: =AVERAGE(F49:G49) -> #DIV/0! | J49: ='[2]Investičný projekt I'!B19 -> 87000
A50: B.IV. | B50: Krátkodobé záväzky súčet | C50: 2561477 | D50: 2345310 | E50: 3153666 | F50: =E50/D50 -> 1.3446691 | G50: =D50/C50 -> 0.91560846 | H50: =AVERAGE(F50:G50) -> 1.1301388 | I50: 2793605 | J50: =O38 -> 3104931.9
A51: B.IV.1. | B51: Záväzky z obchodného styku súčet | C51: 1969664 | D51: 1713095 | E51: 2050320 | F51: =E51/D51 -> 1.1968513 | G51: =D51/C51 -> 0.86973971 | H51: =AVERAGE(F51:G51) -> 1.0332955 | I51: 1908210 | J51: =O40 -> 1930092.8
A52: 1.a. | B52: Záväzky z obchodného styku voči prepojeným účtovným jednotkám | C52: 592627 | D52: 773122 | E52: 826912 | F52: =E52/D52 -> 1.069575 | G52: =D52/C52 -> 1.3045676 | H52: =AVERAGE(F52:G52) -> 1.1870713 | I52: 873193 | J52: =J51-J53 -> 688072.4
A53: 1.c. | B53: Ostatné záväzky z obchodného styku | C53: 1377037 | D53: 939973 | E53: 1223408 | F53: =E53/D53 -> 1.3015353 | G53: =D53/C53 -> 0.68260548 | H53: =AVERAGE(F53:G53) -> 0.99207037 | I53: 1035017 | J53: =I53*1.2 -> 1242020.4
A54: 6. | B54: Záväzky voči zamestnancom | C54: 152726 | D54: 196472 | E54: 176496 | F54: =E54/D54 -> 0.89832648 | G54: =D54/C54 -> 1.2864345 | H54: =AVERAGE(F54:G54) -> 1.0923805 | I54: 225420 | J54: =I54*1.01 -> 227674.2
A55: 7. | B55: Záväzky zo sociálneho poistenia | C55: 100899 | D55: 126845 | E55: 113038 | F55: =E55/D55 -> 0.89115062 | G55: =D55/C55 -> 1.2571482 | H55: =AVERAGE(F55:G55) -> 1.0741494 | I55: 135859 | J55: =I55*1.01 -> 137217.59
A56: 8. | B56: Daňové záväzky a dotácie | C56: 293820 | D56: 307586 | E56: 809071 | F56: =E56/D56 -> 2.6303895 | G56: =D56/C56 -> 1.0468518 | H56: =AVERAGE(F56:G56) -> 1.8386207 | I56: 522969 | J56: =I56*1.01 -> 528198.69
A57: 10. | B57: Iné záväzky | C57: 570 | D57: 1312 | E57: 4741 | F57: =E57/D57 -> 3.6135671 | G57: =D57/C57 -> 2.3017544 | H57: =AVERAGE(F57:G57) -> 2.9576607 | I57: 1147 | J57: =I57*1.02 -> 1169.94
A58: B.V. | B58: Krátkodobé rezervy | C58: 623814 | D58: 467721 | E58: 703378 | F58: =E58/D58 -> 1.503841 | G58: =D58/C58 -> 0.74977638 | H58: =AVERAGE(F58:G58) -> 1.1268087 | I58: 508164 | J58: =I58*1.01 -> 513245.64
A59: B.V.1. | B59: Zákonné rezervy | C59: 14119 | D59: 18265 | E59: 24741 | F59: =E59/D59 -> 1.3545579 | G59: =D59/C59 -> 1.2936469 | H59: =AVERAGE(F59:G59) -> 1.3241024 | I59: 22602 | J59: =I59*1.02 -> 23054.04
A60: 2. | B60: Ostatné rezervy | C60: 609695 | D60: 449456 | E60: 678637 | F60: =E60/D60 -> 1.5099075 | G60: =D60/C60 -> 0.73718171 | H60: =AVERAGE(F60:G60) -> 1.1235446 | I60: 485562 | J60: =J58-J59 -> 490191.6
A61: B.VI. | B61: Bežné bankové úvery (221A, 231, 232, 23X, 461A, 46XA) | H61: =AVERAGE(F61:G61) -> #DIV/0!
A62: B.VII. | B62: Krátkodobé finančné výpomoci (241, 249, 24X, 473A, /-/255A) | H62: =AVERAGE(F62:G62) -> #DIV/0!
A63: C. | B63: Časové rozlíšenie súčet | H63: =AVERAGE(F63:G63) -> #DIV/0!
B65: VZaS | C65: 2018 | D65: 2019 | E65: 2020 | F65: IV 20/19 | G65: IV 19/18 | H65: priemer | I65: 2021 | J65: Plán 2022
A66: * | B66: Čistý obrat | C66: 23298230 | D66: 25204145 | E66: 28789811 | F66: =E66/D66 -> 1.1422649 | G66: =D66/C66 -> 1.0818051 | H66: =AVERAGE(F66:G66) -> 1.112035 | I66: 28886746 | J66: =SUM(J68:J70) -> 30210148
A67: ** | B67: Výnosy z hospodárskej činnosti spolu súčet | C67: 23448049 | D67: 25369352 | E67: 28919418 | F67: =E67/D67 -> 1.1399352 | G67: =D67/C67 -> 1.0819387 | H67: =AVERAGE(F67:G67) -> 1.110937 | I67: 29189399 | J67: =SUM(J68:J73) -> 30436365
A68: I. | B68: Tržby z predaja tovaru | C68: 13650136 | D68: 14435624 | E68: 16008927 | F68: =E68/D68 -> 1.1089875 | G68: =D68/C68 -> 1.0575443 | H68: =AVERAGE(F68:G68) -> 1.0832659 | I68: 16797907 | J68: =I68*1.05 -> 17637802
A69: II. | B69: Tržby z predaja vlastných výrobkov | C69: 9624818 | D69: 10744270 | E69: 12764037 | F69: =E69/D69 -> 1.1879855 | G69: =D69/C69 -> 1.1163089 | H69: =AVERAGE(F69:G69) -> 1.1521472 | I69: 12069805 | J69: =I69*1.04 -> 12552597
A70: III. | B70: Tržby z predaja služieb | C70: 23276 | D70: 24251 | E70: 16847 | F70: =E70/D70 -> 0.694693 | G70: =D70/C70 -> 1.0418886 | H70: =AVERAGE(F70:G70) -> 0.86829082 | I70: 18989 | J70: =I70*1.04 -> 19748.56
A71: IV. | B71: Zmeny stavu vnútroorganizačných zásob | C71: 36642 | D71: 25152 | E71: -80886 | F71: =E71/D71 -> -3.2158874 | G71: =D71/C71 -> 0.68642541 | H71: =AVERAGE(F71:G71) -> -1.264731 | I71: 87455 | J71: 9536
A72: VI. | B72: Tržby z predaja dlhodobého nehmotného majetku, dlhodobého hmotného majetku a materiálu | C72: 101965 | D72: 127921 | E72: 133922 | F72: =E72/D72 -> 1.0469118 | G72: =D72/C72 -> 1.2545579 | H72: =AVERAGE(F72:G72) -> 1.1507349 | I72: 181742 | J72: =I72*1.01 -> 183559.42
A73: VII. | B73: Ostatné výnosy z hospodárskej činnosti | C73: 11212 | D73: 12134 | E73: 76571 | F73: =E73/D73 -> 6.31045 | G73: =D73/C73 -> 1.0822333 | H73: =AVERAGE(F73:G73) -> 3.6963416 | I73: 33456 | J73: =I73*0.99 -> 33121.44
A74: ** | B74: Náklady na hospodársku činnosť spolu | C74: 19996919 | D74: 21940406 | E74: 24214153 | F74: =E74/D74 -> 1.1036329 | G74: =D74/C74 -> 1.0971893 | H74: =AVERAGE(F74:G74) -> 1.1004111 | I74: 23742620 | J74: =J75+J76+J77+J78+J79+J83+J84+J86+J87+J88 -> 24155478
A75: A. | B75: Náklady vynaložené na obstaranie predaného tovaru | C75: 8136209 | D75: 8799494 | E75: 9702296 | F75: =E75/D75 -> 1.102597 | G75: =D75/C75 -> 1.0815226 | H75: =AVERAGE(F75:G75) -> 1.0920598 | I75: 10406146 | J75: =I75*1.02 -> 10614269
A76: B. | B76: Spotreba materiálu, energie a ostatných neskladovateľných dodávok | C76: 4233260 | D76: 5142863 | E76: 5740209 | F76: =E76/D76 -> 1.1161505 | G76: =D76/C76 -> 1.2148706 | H76: =AVERAGE(F76:G76) -> 1.1655105 | I76: 5623323 | J76: =I76*1.02 -> 5735789.5
A77: C | B77: Opravné položky k zásobám | C77: 33439 | D77: 9803 | E77: 32340 | F77: =E77/D77 -> 3.2989901 | G77: =D77/C77 -> 0.29316068 | H77: =AVERAGE(F77:G77) -> 1.7960754 | I77: 57233 | J77: =I77*1.02 -> 58377.66
A78: D. | B78: Služby | C78: 4570411 | D78: 4375195 | E78: 4702691 | F78: =E78/D78 -> 1.0748529 | G78: =D78/C78 -> 0.95728699 | H78: =AVERAGE(F78:G78) -> 1.0160699 | I78: 4018340 | J78: =I78*1.01 -> 4058523.4 | L78: PRIDANÁ HODNOTA | Q78: 2020 | R78: 2021 | S78: Plán 2022
A79: E. | B79: Osobné náklady (r. 16 až r. 19) | C79: 2596659 | D79: 3083082 | E79: 3567005 | F79: =E79/D79 -> 1.1569608 | G79: =D79/C79 -> 1.1873265 | H79: =AVERAGE(F79:G79) -> 1.1721436 | I79: 3147940 | J79: =SUM(J80:J82) -> 3198825.9 | L79: tržby z predaja tovaru | Q79: =E68 -> 16008927 | R79: =I68 -> 16797907 | S79: =J68 -> 17637802
A80: E.1. | B80: Mzdové náklady | C80: 1832663 | D80: 2208864 | E80: 2547390 | F80: =E80/D80 -> 1.153258 | G80: =D80/C80 -> 1.2052756 | H80: =AVERAGE(F80:G80) -> 1.1792668 | I80: 2232097 | J80: =I80*1.02 -> 2276738.9 | L80: n. vynalož. Na obstaranie predaného t. | Q80: =E75 -> 9702296 | R80: =I75 -> 10406146 | S80: =J75 -> 10614269
A81: 3. | B81: Náklady na sociálne poistenie | C81: 663563 | D81: 769077 | E81: 891707 | F81: =E81/D81 -> 1.1594509 | G81: =D81/C81 -> 1.1590113 | H81: =AVERAGE(F81:G81) -> 1.1592311 | I81: 783991 | J81: =I81*1.01 -> 791830.91 | L81: OBCHODNÁ MARŽA | Q81: =Q79-Q80 -> 6306631 | R81: =R79-R80 -> 6391761 | S81: =S79-S80 -> 7023533.4
A82: 4. | B82: Sociálne náklady (527, 528) | C82: 100433 | D82: 105141 | E82: 127908 | F82: =E82/D82 -> 1.2165378 | G82: =D82/C82 -> 1.046877 | H82: =AVERAGE(F82:G82) -> 1.1317074 | I82: 131852 | J82: 130256 | L82: t. z predaja vlast.výrobkov | Q82: =E69 -> 12764037 | R82: =I69 -> 12069805 | S82: =J69 -> 12552597
A83: F. | B83: Dane a poplatky | C83: 4034 | D83: 3369 | E83: 4502 | F83: =E83/D83 -> 1.3363016 | G83: =D83/C83 -> 0.83515121 | H83: =AVERAGE(F83:G83) -> 1.0857264 | I83: 4394 | J83: 2301 | L83: t. z predaja sl. | Q83: =E70 -> 16847 | R83: =I70 -> 18989 | S83: =J70 -> 19748.56
A84: G. | B84: Odpisy a opravné položky k dlhodobému nehmotnému majetku a dlhodobému hmotnému majetku (r. 22 + r. 23) | C84: 239616 | D84: 233398 | E84: 228152 | F84: =E84/D84 -> 0.97752337 | G84: =D84/C84 -> 0.97405015 | H84: =AVERAGE(F84:G84) -> 0.97578676 | I84: 245636 | J84: ='[2]DD plán'!B48 -> 247236 | L84: zmena voz | Q84: =E71 -> -80886 | R84: =I71 -> 87455 | S84: =J71 -> 9536
A85: G.1. | B85: Odpisy dlhodobého nehmotného majetku a dlhodobého hmotného majetku | C85: 239616 | D85: 233398 | E85: 228152 | F85: =E85/D85 -> 0.97752337 | G85: =D85/C85 -> 0.97405015 | H85: =AVERAGE(F85:G85) -> 0.97578676 | I85: 245626 | J85: =J84 -> 247236 | L85: VÝROBA | Q85: =SUM(Q82:Q84) -> 12699998 | R85: =SUM(R82:R84) -> 12176249 | S85: =SUM(S82:S84) -> 12581882
A86: H. | B86: Zostatková cena predaného dlhodobého majetku a predaného materiálu (541, 542) | C86: 98937 | D86: 122868 | E86: 123813 | F86: =E86/D86 -> 1.0076912 | G86: =D86/C86 -> 1.2418812 | H86: =AVERAGE(F86:G86) -> 1.1247862 | I86: 147144 | J86: =I86*1.01 -> 148615.44 | L86: spotr.mat.,energie | Q86: =E76 -> 5740209 | R86: =I76 -> 5623323 | S86: =J76 -> 5735789.5
A87: I. | B87: Opravné položky k pohľadávkam | D87: 60842 | F87: =E87/D87 -> 0 | G87: =D87/C87 -> #DIV/0! | H87: =AVERAGE(F87:G87) -> #DIV/0! | L87: služby | Q87: =E78 -> 4702691 | R87: =I78 -> 4018340 | S87: =J78 -> 4058523.4
A88: J. | B88: Ostatné náklady na hospodársku činnosť | C88: 84354 | D88: 109492 | E88: 113145 | F88: =E88/D88 -> 1.0333632 | G88: =D88/C88 -> 1.298006 | H88: =AVERAGE(F88:G88) -> 1.1656846 | I88: 92465 | J88: =I88*0.99 -> 91540.35 | L88: op k zásobam | Q88: =E77 -> 32340 | R88: =I77 -> 57233 | S88: =J77 -> 58377.66
A89: *** | B89: Výsledok hospodárenia z hospodárskej činnosti | C89: 3451130 | D89: 3428946 | E89: 4705265 | F89: =E89/D89 -> 1.372219 | G89: =D89/C89 -> 0.99357196 | H89: =AVERAGE(F89:G89) -> 1.1828955 | I89: 5446779 | J89: =J67-J74 -> 6280886.9 | L89: VÝROBNÁ SPOTREBA | Q89: =SUM(Q86:Q88) -> 10475240 | R89: =SUM(R86:R88) -> 9698896 | S89: =SUM(S86:S88) -> 9852690.5
A90: * | B90: Pridaná hodnota | C90: 6361553 | D90: 6901942 | E90: 8531389 | F90: =E90/D90 -> 1.2360853 | G90: =D90/C90 -> 1.0849461 | H90: =AVERAGE(F90:G90) -> 1.1605157 | I90: 8869160 | J90: =S90 -> 9752724.7 | L90: PRIDANÁ HODNOTA | Q90: =Q81+Q85-Q89 -> 8531389 | R90: =R81+R85-R89 -> 8869114 | S90: =S81+S85-S89 -> 9752724.7
A91: ** | B91: Výnosy z finančnej činnosti spolu | C91: 85004 | D91: 21695 | E91: 181098 | F91: =E91/D91 -> 8.3474533 | G91: =D91/C91 -> 0.25522328 | H91: =AVERAGE(F91:G91) -> 4.3013383 | I91: 144115 | J91: =J92 -> 145556.15
A92: XII. | B92: Kurzové zisky | C92: 85004 | D92: 21695 | E92: 181098 | F92: =E92/D92 -> 8.3474533 | G92: =D92/C92 -> 0.25522328 | H92: =AVERAGE(F92:G92) -> 4.3013383 | I92: 144115 | J92: =I92*1.01 -> 145556.15
A93: **. | B93: Náklady na finančnú činnosť spolu | C93: 60138 | D93: 79654 | E93: 117103 | F93: =E93/D93 -> 1.4701459 | G93: =D93/C93 -> 1.3245203 | H93: =AVERAGE(F93:G93) -> 1.3973331 | I93: 110901 | J93: =SUM(J94:J96) -> 113615.31
A94: N. | B94: Nákladové úroky (r. 50 + r. 51) | F94: =E94/D94 -> #DIV/0! | G94: =D94/C94 -> #DIV/0! | H94: =AVERAGE(F94:G94) -> #DIV/0! | J94: ='[2]Investičný projekt I'!D19 -> 2610
A95: O. | B95: Kurzové straty (563) | C95: 50136 | D95: 70174 | E95: 105804 | F95: =E95/D95 -> 1.5077379 | G95: =D95/C95 -> 1.3996729 | H95: =AVERAGE(F95:G95) -> 1.4537054 | I95: 94156 | J95: =I95*1.01 -> 95097.56
A96: Q. | B96: Ostatné náklady na finančnú činnosť | C96: 10002 | D96: 9480 | E96: 11299 | F96: =E96/D96 -> 1.1918776 | G96: =D96/C96 -> 0.94781044 | H96: =AVERAGE(F96:G96) -> 1.069844 | I96: 16745 | J96: =I96*0.95 -> 15907.75
A97: *** | B97: Výsledok hospodárenia z finančnej činnosti (+/-) (r. 29 - r. 45) | C97: 24866 | D97: -57959 | E97: 63995 | F97: =E97/D97 -> -1.1041426 | G97: =D97/C97 -> -2.3308534 | H97: =AVERAGE(F97:G97) -> -1.717498 | I97: 33214 | J97: =J91-J93 -> 31940.84
A98: **** | B98: Výsledok hospodárenia za účtovné obdobie pred zdanením (+/-) (r. 27 + r. 55) | C98: 3475996 | D98: 3370987 | E98: 4769260 | F98: =E98/D98 -> 1.4147963 | G98: =D98/C98 -> 0.96979024 | H98: =AVERAGE(F98:G98) -> 1.1922933 | I98: 5479993 | J98: =J97+J89 -> 6312827.7
A99: R. | B99: Daň z príjmov (r. 58 + r. 59) | C99: 784823 | D99: 721334 | E99: 1129167 | F99: =E99/D99 -> 1.5653872 | G99: =D99/C99 -> 0.91910405 | H99: =AVERAGE(F99:G99) -> 1.2422456 | I99: 943365 | J99: =J98*23% -> 1451950.4
A100: R.1. | B100: Daň z príjmov splatná (591, 595) | C100: 766552 | D100: 708616 | E100: 1143241 | F100: =E100/D100 -> 1.6133435 | G100: =D100/C100 -> 0.92442 | H100: =AVERAGE(F100:G100) -> 1.2688817 | I100: 1138368 | J100: =J99 -> 1451950.4
A101: 2. | B101: Daň z príjmov odložená (+/-) (592) | C101: 18271 | D101: 12718 | E101: -14074 | F101: =E101/D101 -> -1.1066205 | G101: =D101/C101 -> 0.69607575 | H101: =AVERAGE(F101:G101) -> -0.20527239 | I101: -195003
A102: **** | B102: Výsledok hospodárenia za účtovné obdobie po zdanení | C102: 2691173 | D102: 2649653 | E102: 3640093 | F102: =E102/D102 -> 1.3737999 | G102: =D102/C102 -> 0.98457178 | H102: =AVERAGE(F102:G102) -> 1.1791858 | I102: 4536628 | J102: =J98-J99 -> 4860877.4 | L102: =J102-I102 -> 324249.35

Sheet PR - simulácia
B1: 2020 | C1: 2021 | D1: 2022 | E1: 21-20 | F1: 22-21
A2: 0. stupeň rozkladu | E2: zmena | F2: zmena
A3: ČZ/VK (rentabilita vlastného kapitálu) | B3: 0.55 | C3: ='PR 2021'!D4 -> 0.60247176 | D3: ='Simulácia VZaS'!J102/'Simulácia VZaS'!J36 -> 0.62301453 | E3: =C3-B3 -> 0.052471758 | F3: =D3-C3 -> 0.020542775
A4: 1. stupeň rozkladu | E4: vplyvy | I4: 21-20 | J4: 22-21
A5: ČZ/T (rentabilita tržieb - ROS) | B5: 0.1264 | C5: 0.15705 | D5: 0.1609 | E5: =[3]Hárok1!$H$9 -> 0.12499957 | F5: =[3]Hárok1!$J$9 -> 2.3810112 | G5: =[3]Hárok1!$I$9 -> 0.014849226 | H5: =[3]Hárok1!$K$9 -> 0.72284421 | I5: =C5-B5 -> 0.03065 | J5: =D5-C5 -> 0.00385
A6: AKT/T (viazanosť majetku) | B6: 0.3761 | C6: 0.38155 | D6: 0.38726 | E6: =[3]Hárok1!$H$10 -> -0.0082696325 | F6: =[3]Hárok1!$J$10 -> -0.15752124 | G6: =[3]Hárok1!$I$10 -> -0.0090923677 | H6: =[3]Hárok1!$K$10 -> -0.4426066 | I6: =C6-B6 -> 0.00545 | J6: =D6-C6 -> 0.00571
A7: VK/AKT (stupeň samofinancovania) | B7: 0.6112 | C7: 0.6832 | D7: 0.66691 | E7: =[3]Hárok1!$H$11 -> -0.064231413 | F7: =[3]Hárok1!$J$11 -> -1.2234899 | G7: =[3]Hárok1!$I$11 -> 0.014785917 | H7: =[3]Hárok1!$K$11 -> 0.71976239 | I7: =C7-B7 -> 0.072 | J7: =D7-C7 -> -0.01629
A8: 2. stupeň rozkladu | E8: =SUM(E5:E7) -> 0.052498523 | F8: =SUM(F5:F7) -> 1 | G8: =SUM(G5:G7) -> 0.020542775 | H8: =SUM(H5:H7) -> 1
A9: ČZ/ZHČ (podiel zisku na hospod. výsledku) | B9: 0.7736 | C9: 0.82985 | D9: =[4]Hárok1!$E$10 -> 0.77391576 | E9: =[4]Hárok1!$H$10 -> 0.010431528 | F9: =[4]Hárok1!$J$10 -> 0.3407641 | G9: =[4]Hárok1!$I$10 -> -0.011693313 | H9: =[4]Hárok1!$K$10 -> -3.0347658
A10: ZHČ/VHČ (ziskovosť z HČ) | B10: 0.1627 | C10: 0.18729 | D10: =[4]Hárok1!$E$11 -> 0.20636127 | E10: =[4]Hárok1!$H$11 -> 0.019341244 | F10: =[4]Hárok1!$J$11 -> 0.63181557 | G10: =[4]Hárok1!$I$11 -> 0.01601823 | H10: =[4]Hárok1!$K$11 -> 4.1572116 | I10: =C10-B10 -> 0.02459 | J10: =D10-C10 -> 0.019071269
A11: T/VHČ (štruktúra tržieb z HČ) | B11: 0.9955 | C11: 0.98963 | D11: =[4]Hárok1!$E$12 -> 0.99256755 | E11: =[4]Hárok1!$H$12 -> 0.00083939549 | F11: =[4]Hárok1!$J$12 -> 0.027420322 | G11: =[4]Hárok1!$I$12 -> -0.00047179815 | H11: =[4]Hárok1!$K$12 -> -0.12244579
A12: Kontrola | E12: =SUM(E9:E11) -> 0.030612168 | F12: =SUM(F9:F11) -> 1 | G12: =SUM(G9:G11) -> 0.0038531186 | H12: =SUM(H9:H11) -> 1
A13: NM/T (viazanosť neobežného majetku) | B13: 0.0678 | C13: 0.06662 | D13: =[5]Hárok1!$E$9 -> 0.066671504 | E13: =[5]Hárok1!$H$9 -> -0.0011342861 | F13: =[5]Hárok1!$J$9 -> -0.20906248 | G13: =[5]Hárok1!$I$9 -> 5.0777386e-05 | H13: =[5]Hárok1!$K$9 -> 0.0089007434
A14: OM/T (viazanosť obežného majektu) | B14: 0.3079 | C14: 0.31375 | D14: =[5]Hárok1!$E$10 -> 0.31947907 | E14: =[5]Hárok1!$H$10 -> 0.0058867245 | F14: =[5]Hárok1!$J$10 -> 1.0849937 | G14: =[5]Hárok1!$I$10 -> 0.0057282858 | H14: =[5]Hárok1!$K$10 -> 1.0041084
A15: OST AKT/T (viazanosť ostatného majetku) | B15: 0.0005 | C15: 0.00118 | D15: =[5]Hárok1!$E$11 -> 0.0011050816 | E15: =[5]Hárok1!$H$11 -> 0.00067314572 | F15: =[5]Hárok1!$J$11 -> 0.1240688 | G15: =[5]Hárok1!$I$11 -> -7.4215367e-05 | H15: =[5]Hárok1!$K$11 -> -0.013009176
A16: Kontrola | E16: =SUM(E13:E15) -> 0.0054255842 | F16: =SUM(F13:F15) -> 1 | G16: =SUM(G13:G15) -> 0.0057048478 | H16: =SUM(H13:H15) -> 1
A17: VK/ZÁV (zadlženosť vlastného imania) | B17: 1.5722 | C17: 2.15654 | D17: =[6]Hárok1!$E$10 -> 2.0021729 | E17: =[6]Hárok1!$H$10 -> 0.20616004 | F17: =[6]Hárok1!$J$10 -> 2.8643537 | G17: =[6]Hárok1!$I$10 -> -0.050160868 | H17: =[6]Hárok1!$K$10 -> -3.0793533
A18: ZÁV/AKT (zadlženosť aktív) | B18: 0.3888 | C18: 0.3168 | D18: =[6]Hárok1!$E$11 -> 0.33309207 | E18: =[6]Hárok1!$H$11 -> -0.13418568 | F18: =[6]Hárok1!$J$11 -> -1.8643537 | G18: =[6]Hárok1!$I$11 -> 0.033871452 | H18: =[6]Hárok1!$K$11 -> 2.0793533
A19: Kontrola | E19: =SUM(E17:E18) -> 0.071974368 | F19: =SUM(F17:F18) -> 1 | G19: =SUM(G17:G18) -> -0.016289416 | H19: =SUM(H17:H18) -> -1
A20: NHČ/VHČ | B20: 0.8373 | C20: ='Simulácia VZaS'!I74/'Simulácia VZaS'!I67 -> 0.81339873 | D20: ='Simulácia VZaS'!J74/'Simulácia VZaS'!J67 -> 0.79363873 | E20: =(C20-B20)*-1 -> 0.023901273 | G20: =(D20-C20)*-1 -> 0.019759996
A21: 3. stupeň rozkladu
A22: NPT/VHČ (nákladovosť predaného tovaru) | B22: ='PR 2021'!C23 -> 0.3355 | C22: ='PR 2021'!D23 -> 0.35650429 | D22: ='Simulácia VZaS'!J75/'Simulácia VZaS'!J67 -> 0.34873642 | E22: =(C22-B22)*-1 -> -0.021004291 | F22: =E22/E28 -> -0.87879384 | G22: =(D22-C22)*-1 -> 0.0077678724 | H22: =G22/G28 -> 0.39342867
A23: SME/VHČ (materiálová a energetická nákladovosť) | B23: ='PR 2021'!C24 -> 0.1985 | C23: ='PR 2021'!D24 -> 0.1926495 | D23: ='Simulácia VZaS'!J76/'Simulácia VZaS'!J67 -> 0.18845186 | E23: =(C23-B23)*-1 -> 0.0058505042 | F23: =E23/E28 -> 0.24477794 | G23: =(D23-C23)*-1 -> 0.0041976401 | H23: =G23/G28 -> 0.21260287
A24: SL/VHČ (nákladovosť služieb) | B24: ='PR 2021'!C25 -> 0.1626 | C24: ='PR 2021'!D25 -> 0.13766436 | D24: ='Simulácia VZaS'!J78/'Simulácia VZaS'!J67 -> 0.13334455 | E24: =(C24-B24)*-1 -> 0.024935638 | F24: =E24/E28 -> 1.0432766 | G24: =(D24-C24)*-1 -> 0.004319812 | H24: =G24/G28 -> 0.21879065
A25: ON/VHČ (nákladovosť osobných nákladov - mzdových) | B25: ='PR 2021'!C26 -> 0.1233 | C25: ='PR 2021'!D26 -> 0.10784532 | D25: ='Simulácia VZaS'!J79/'Simulácia VZaS'!J67 -> 0.10509881 | E25: =(C25-B25)*-1 -> 0.015454683 | F25: =E25/E28 -> 0.64660501 | G25: =(D25-C25)*-1 -> 0.0027465038 | H25: =G25/G28 -> 0.13910544
A26: ODP/VHČ (odpisová nákladovosť) | B26: ='PR 2021'!C27 -> 0.0079 | C26: ='PR 2021'!D27 -> 0.0084152469 | D26: ='Simulácia VZaS'!J84/'Simulácia VZaS'!J67 -> 0.0081230462 | E26: =(C26-B26)*-1 -> -0.00051524692 | F26: =E26/E28 -> -0.021557301 | G26: =(D26-C26)*-1 -> 0.00029220068 | H26: =G26/G28 -> 0.014799435
A27: OST/VHČ (ostatná nákladovosť) | B27: ='PR 2021'!C28 -> 0.0095 | C27: ='PR 2021'!D28 -> 0.010320014 | D27: =0.0099 -> 0.0099 | E27: =(C27-B27)*-1 -> -0.00082001378 | F27: =E27/E28 -> -0.034308373 | G27: =(D27-C27)*-1 -> 0.00042001378 | H27: =G27/G28 -> 0.021272937
A28: Kontrola | B28: 0.8373 | C28: =SUM(C22:C27) -> 0.81339873 | D28: =SUM(D22:D27) -> 0.79365468 | E28: =SUM(E22:E27) -> 0.023901273 | F28: =SUM(F22:F27) -> 1 | G28: =SUM(G22:G27) -> 0.019744043 | H28: =SUM(H22:H27) -> 1
A29: DNM/T (viazanosť dlhodobého nehmotného majetku) | B29: ='Simulácia VZaS'!E4/[3]Hárok1!$C$19 -> 3.3449334e-05 | C29: ='Simulácia VZaS'!I4/[3]Hárok1!$D$19 -> 0 | D29: ='Simulácia VZaS'!J4/[3]Hárok1!$E$19 -> 0 | E29: =C29-B29 -> -3.3449334e-05 | F29: =E29/E36 -> -0.0070383518 | G29: =D29-C29 -> 0 | H29: =G29/G36 -> 0
A30: DHM/T (viazanosť dlhodobého hmotného majetku) | B30: ='Simulácia VZaS'!E6/[3]Hárok1!$C$19 -> 0.067721563 | C30: ='Simulácia VZaS'!I6/[3]Hárok1!$D$19 -> 0.066620726 | D30: ='Simulácia VZaS'!J6/[3]Hárok1!$E$19 -> 0.066671504 | E30: =C30-B30 -> -0.0011008368 | F30: =E30/E36 -> -0.23163619 | G30: =D30-C30 -> 5.0777386e-05 | H30: =G30/G36 -> 0.0087864391
A31: DFM/T (viazanosť dlhodobého finančného majetku) | B31: =0 -> 0 | C31: =0 -> 0 | D31: =0 -> 0 | E31: =C31-B31 -> 0 | F31: =E31/E36 -> 0 | G31: =D31-C31 -> 0 | H31: =G31/G36 -> 0
A32: ZÁS/T (viazanosť zásob) | B32: ='Simulácia VZaS'!E13/[3]Hárok1!$C$19 -> 0.054616753 | C32: ='Simulácia VZaS'!I13/[3]Hárok1!$D$19 -> 0.070930668 | D32: ='Simulácia VZaS'!J13/[3]Hárok1!$E$19 -> 0.047222222 | E32: =C32-B32 -> 0.016313915 | F32: =E32/E36 -> 3.4327462 | G32: =D32-C32 -> -0.023708446 | H32: =G32/G36 -> -4.1024722
A33: DPOH/T (viazanosť dlhodobých pohľadávok) | B33: ='Simulácia VZaS'!E18/[3]Hárok1!$C$19 -> 0.00027926547 | C33: ='Simulácia VZaS'!I18/[3]Hárok1!$D$19 -> 0.0016335891 | D33: ='Simulácia VZaS'!J18/[3]Hárok1!$E$19 -> 0.0015068446 | E33: =C33-B33 -> 0.0013543236 | F33: =E33/E36 -> 0.28497447 | G33: =D33-C33 -> -0.00012674455 | H33: =G33/G36 -> -0.021931677
A34: KPOH/T (viazanosť krátkodobých pohľadávok) | B34: ='Simulácia VZaS'!E21/[3]Hárok1!$C$19 -> 0.18821881 | C34: ='Simulácia VZaS'!I21/[3]Hárok1!$D$19 -> 0.17884112 | D34: ='Simulácia VZaS'!J21/[3]Hárok1!$E$19 -> 0.15833333 | E34: =C34-B34 -> -0.0093776898 | F34: =E34/E36 -> -1.9732375 | G34: =D34-C34 -> -0.020507788 | H34: =G34/G36 -> -3.5486354
A35: FU/T (viazanosť finančných účtov) | B35: ='Simulácia VZaS'!E29/[3]Hárok1!$C$19 -> 0.064749227 | C35: ='Simulácia VZaS'!I29/[3]Hárok1!$D$19 -> 0.062345402 | D35: ='Simulácia VZaS'!J29/[3]Hárok1!$E$19 -> 0.11241667 | E35: =C35-B35 -> -0.0024038243 | F35: =E35/E36 -> -0.5058086 | G35: =D35-C35 -> 0.050071264 | H35: =G35/G36 -> 8.6642528
A36: Kontrola | E36: =SUM(E29:E35) -> 0.0047524384 | F36: =SUM(F29:F35) -> 1 | G36: =SUM(G29:G35) -> 0.0057790631 | H36: =SUM(H29:H35) -> 1
